BEGIN:VCALENDAR
VERSION:2.0
PRODID:-//Francesca Ajossa - ECPv6.13.2.1//NONSGML v1.0//EN
CALSCALE:GREGORIAN
METHOD:PUBLISH
X-WR-CALNAME:Francesca Ajossa
X-ORIGINAL-URL:https://francescajossa.com
X-WR-CALDESC:Events for Francesca Ajossa
REFRESH-INTERVAL;VALUE=DURATION:PT1H
X-Robots-Tag:noindex
X-PUBLISHED-TTL:PT1H
BEGIN:VTIMEZONE
TZID:UTC
BEGIN:STANDARD
TZOFFSETFROM:+0000
TZOFFSETTO:+0000
TZNAME:UTC
DTSTART:20240101T000000
END:STANDARD
END:VTIMEZONE
BEGIN:VEVENT
DTSTART;TZID=UTC:20240427T120000
DTEND;TZID=UTC:20240427T235900
DTSTAMP:20260426T015959
CREATED:20240311T204715Z
LAST-MODIFIED:20240311T204715Z
UID:1536-1714219200-1714262340@francescajossa.com
SUMMARY:12 hours for Climate and Peace
DESCRIPTION:Contribution as organ player in the 12 hour organ marathon for Climate and Peace. \n  \nMore information: Contius Foundation
URL:https://francescajossa.com/event/12-hours-for-climate-and-peace/
LOCATION:Sint-Michielskerk\, Naamsestraat 57a\, Leuven\, Vlaams-Brabant\, 3000\, Belgium
END:VEVENT
BEGIN:VEVENT
DTSTART;TZID=UTC:20240413T200000
DTEND;TZID=UTC:20240413T210000
DTSTAMP:20260426T015959
CREATED:20240116T203511Z
LAST-MODIFIED:20240116T203600Z
UID:1415-1713038400-1713042000@francescajossa.com
SUMMARY:Cantamare Lente-special: Son d'été - Den Haag (NL)
DESCRIPTION:Concert programme\nCantamare Lente-special: Son d’été conducted by Daniëlle van Lieshout. \nMusical contribution as choir accompanist (organ). \n  \nMore information: Academy of Vocal Arts
URL:https://francescajossa.com/event/cantamare-lente-special-son-dete/
LOCATION:Waalse Kerk\, Noordeinde 25\, Den Haag\, Zuid-Holland\, 2514GB\, Netherlands
END:VEVENT
BEGIN:VEVENT
DTSTART;TZID=UTC:20240406T193000
DTEND;TZID=UTC:20240406T203000
DTSTAMP:20260426T015959
CREATED:20231222T162546Z
LAST-MODIFIED:20240215T151650Z
UID:1116-1712431800-1712435400@francescajossa.com
SUMMARY:Organ concert - Wateringen (NL)
DESCRIPTION:Concert programme\nJohann Sebastian Bach (1685-1750)\nPraeludium en Fuge G-dur\, BWV 541 \n  \nAnthon van der Horst (1899-1965)\nPartite Diverse Sopra ”Nostre Dieu\, et Seigneur Amiable” (Pseaume 8) \n  \nCésar Franck (1822-1890)\nFantaisie\, Op.16 \n  \nAugust Gottfried Ritter (1811-1885)\nOrgelsonate nr.3 a-moll\, Op. 23 \n  \n  \nMore information: Orgelcomité Bätz-Witte orgel Herv. kerk Wateringen
URL:https://francescajossa.com/event/organ-concert-wateringen-nl/
LOCATION:Hervormde kerk Wateringen\, Plein 9\, Wateringen\, Zuid-Holland\, 2291CA\, Netherlands
END:VEVENT
BEGIN:VEVENT
DTSTART;TZID=UTC:20240328T193000
DTEND;TZID=UTC:20240330T230000
DTSTAMP:20260426T015959
CREATED:20231222T184800Z
LAST-MODIFIED:20231222T205926Z
UID:1138-1711654200-1711839600@francescajossa.com
SUMMARY:Matthäus-Passion - Rotterdam (NL)
DESCRIPTION:Concert programme\nMatthäus-Passion conducted by John Butt. \nMusical contribution as continuo player (organ). \n  \nMore information: Rotterdam Philharmonic Orchestra
URL:https://francescajossa.com/event/matthaus-passion-rotterdam-nl/
LOCATION:De Doelen\, Schouwburgplein 50\, Rotterdam\, Zuid-Holland\, 3012CL\, Netherlands
END:VEVENT
BEGIN:VEVENT
DTSTART;TZID=UTC:20240317T141500
DTEND;TZID=UTC:20240317T141500
DTSTAMP:20260426T015959
CREATED:20240125T174005Z
LAST-MODIFIED:20240125T174051Z
UID:1458-1710684900-1710684900@francescajossa.com
SUMMARY:Organ concert - Amsterdam (NL)
DESCRIPTION:Concert programme\nContribution as organ player during the final concert of the Amsterdam Marimba Weekend. \n  \nMore information: Orgelpark
URL:https://francescajossa.com/event/organ-concert-amsterdam-nl/
LOCATION:Orgelpark Amsterdam\, Gerard Brandtstraat 28\, Amsterdam\, Netherlands
END:VEVENT
BEGIN:VEVENT
DTSTART;TZID=UTC:20240131T200000
DTEND;TZID=UTC:20240131T210000
DTSTAMP:20260426T015959
CREATED:20231222T183145Z
LAST-MODIFIED:20240121T215024Z
UID:1130-1706731200-1706734800@francescajossa.com
SUMMARY:Organ concert - Leuven (BE)
DESCRIPTION:Concert programme\nJohann Sebastian Bach (1685-1750) \nPassacaglia in C-moll BWV 582 (Francesca) \n  \nBernardo Pasquini (1637-1710) \nToccata con lo Scherzo del Cucco (per il medesimo di Scozzia\, 1697) \n  \nLuca Akaeda Santesson (2001-) \nSelection from C418 – “Minecraft” (Luca) \n  \nCésar Franck (1822-1890) \nPrière\, Op. 20 (Luca) \n  \nJacques van Oortmerssen (1950-2015) \n“Nun ruhen alle Wälder” (Francesca) \n  \nFlor Peeters (1903-1986) \nFrom Lied-Symphony op. 66 (Francesca) \nIV. Lied to the Mountains \nV Lied to the Sun \n\n  \n\nMore information: Leuven Orgelstad
URL:https://francescajossa.com/event/organ-concert-leuven-be/
LOCATION:Kapel van de LUCA School of Arts\, Lemmensberg 3\, Leuven\, Vlaams-Brabant\, 3000\, Belgium
END:VEVENT
BEGIN:VEVENT
DTSTART;TZID=UTC:20240120T140000
DTEND;TZID=UTC:20240120T150000
DTSTAMP:20260426T015959
CREATED:20231222T163117Z
LAST-MODIFIED:20240116T202027Z
UID:1121-1705759200-1705762800@francescajossa.com
SUMMARY:Organ concert - Brugge (BE)
DESCRIPTION:Concert programme\nJohann Sebastian Bach (1685-1750) \nConcerto in A-moll BWV 593 \nAllegro\, Adagio\, Allegro \n  \nFelix Mendelssohn-Bartholdy (1809- 1847) \nVariations serieuses op. 54 (arr. Reitze Smits) \n  \nRobert Schumann (1810-1856) \nFuge über BACH\, op. 60 n. 2 \n  \nHugo Distler (1908-1942) \nOrgan Sonata\, op. 18 n. 2 \n  \nJohann Sebastian Bach \nPassacaglia in C-moll BWV 582 \n  \nMore information: Concertgebouw Brugge
URL:https://francescajossa.com/event/organ-concert-brugge-be/
LOCATION:Karmelietenkerk\, Ezelstraat 28\, Brugge\, West-Vlaanderen\, 8000\, Belgium
END:VEVENT
END:VCALENDAR