BEGIN:VCALENDAR
VERSION:2.0
PRODID:-//Francesca Ajossa - ECPv6.13.2.1//NONSGML v1.0//EN
CALSCALE:GREGORIAN
METHOD:PUBLISH
X-WR-CALNAME:Francesca Ajossa
X-ORIGINAL-URL:https://francescajossa.com
X-WR-CALDESC:Events for Francesca Ajossa
REFRESH-INTERVAL;VALUE=DURATION:PT1H
X-Robots-Tag:noindex
X-PUBLISHED-TTL:PT1H
BEGIN:VTIMEZONE
TZID:UTC
BEGIN:STANDARD
TZOFFSETFROM:+0000
TZOFFSETTO:+0000
TZNAME:UTC
DTSTART:20250101T000000
END:STANDARD
END:VTIMEZONE
BEGIN:VEVENT
DTSTART;TZID=UTC:20250726T200000
DTEND;TZID=UTC:20250726T210000
DTSTAMP:20260425T141149
CREATED:20250304T234625Z
LAST-MODIFIED:20250511T122625Z
UID:2581-1753560000-1753563600@francescajossa.com
SUMMARY:Organ concert - Hengelo (NL)
DESCRIPTION:Concert programme\nJohann Sebastian Bach (1685-1750)\nToccata and fugue in D minor BWV 538 \nMax Reger (1873-1916)\nMelodia op. 129 Nr. 4 \nLouis Vierne (1870-1937)\nSymphony No.1\, Op.14 \n\nPrélude\nFugue\nPastorale\nAllegro vivace\nAndante\nFinal\n\nMore information: Stichting Orgelconcerten Hengelo
URL:https://francescajossa.com/event/organ-concert-hengelo-nl/
LOCATION:St. Lambertusbasiliek\, Enschedesestraat 1\, Hengelo\, Overijssel\, 7551EE\, Netherlands
END:VEVENT
BEGIN:VEVENT
DTSTART;TZID=UTC:20250728T081500
DTEND;TZID=UTC:20250728T211500
DTSTAMP:20260425T141149
CREATED:20250728T140610Z
LAST-MODIFIED:20250728T140747Z
UID:2710-1753690500-1753737300@francescajossa.com
SUMMARY:Organ concert - Brielle (NL)
DESCRIPTION:Concert programme\nJohann Sebastian Bach (1685-1750) \nToccata in D-moll\, BWV 538 \n  \nPartite diverse sopra: Sei gegrüßet\, Jesu gütig\, BWV 768 \n  \nTriosonate IV BWV 528 \n  \nPrelude in C-moll\, BWV 546 \nSchafe können sicher weiden\, uit BWV 208 \nFuga in C-moll\, BWV 546 \n  \n  \nMore information: Sint-Catharijnekerk
URL:https://francescajossa.com/event/organ-concert-brielle-nl/
LOCATION:Sint-Catharijnekerk\, Sint Catharijnehof 1\, Brielle\, Zuid-Holland\, 3231XS\, Netherlands
END:VEVENT
BEGIN:VEVENT
DTSTART;TZID=UTC:20250731T201500
DTEND;TZID=UTC:20250731T211500
DTSTAMP:20260425T141150
CREATED:20250225T220103Z
LAST-MODIFIED:20250304T231836Z
UID:2566-1753992900-1753996500@francescajossa.com
SUMMARY:Organ concert - Noordwijk (NL)
DESCRIPTION:Concert programme\nDieterich Buxthude (1637-1707)\nTe Deum Laudamus\, BuxVW 218 \nJohann Sebastian Bach (1685-1750)\nTriosonate IV BWV 528 \nRobert Schumann (1810-1856)\n6 Studien in kanonischer Form\, Op.56\n1. Nicht zu schnell\n2. Mit innigem Ausdruck\n3. Andantino\n4. Innig\n5. Nicht zu schnell\n6. Adagio \nJohannes Brahms (1833-1897)\nUit 11 Choral-Vorspiele\, Op. 122:\nNo.4 Herzlich tut mich erfreuen\nNo.10. Herzlich tut mich verlangen \nCharles Hubert Hastings Parry (1848-1918)\nChorale Fantasia on the Old Hundredth \n  \n  \nMore information: Muziek in Jeroen
URL:https://francescajossa.com/event/organ-concert-noordwijk-nl/
LOCATION:Oude Jeroen in Noordwijk\, Voorstraat 44\, Noordwijk\, Zuid-Holland\, 2201HW\, Netherlands
END:VEVENT
BEGIN:VEVENT
DTSTART;TZID=UTC:20250802T180000
DTEND;TZID=UTC:20250802T190000
DTSTAMP:20260425T141150
CREATED:20250720T185802Z
LAST-MODIFIED:20250720T185802Z
UID:2701-1754157600-1754161200@francescajossa.com
SUMMARY:Organ concert - Berlin (DE)
DESCRIPTION:Concert programme\nJohann Sebastian Bach (1685-1750)\nPrelude in C minor\, BWV 546\nChrist\, unser Herr\, zum Jordan kam\, BWV 684\nFugue in C minor\, BWV 546 \nCamille Saint Saëns (1835-1921)\nFantaisie no.2 en Ré bémol majeur Op.101 \nFranz Liszt (1811-1886)\n“Ad nos\, ad salutarem undam” S.259 \n  \nMore information: Kaiser-Wilhelm-Gedächtnis-Kirche
URL:https://francescajossa.com/event/organ-concert-berlin-de/
LOCATION:Gedachtniskirche\, Breitscheidplatz\, Berlin\, 10789\, Germany
END:VEVENT
BEGIN:VEVENT
DTSTART;TZID=UTC:20250805T201500
DTEND;TZID=UTC:20250805T211500
DTSTAMP:20260425T141150
CREATED:20250306T232217Z
LAST-MODIFIED:20250306T232234Z
UID:2589-1754424900-1754428500@francescajossa.com
SUMMARY:Organ concert - Nijmegen (NL)
DESCRIPTION:Concert programme\nJohann Sebastian Bach (1685-1750)\nPrelude in C minor\, BWV 546\nChrist\, unser Herr\, zum Jordan kam\, BWV 684\nFugue in C minor\, BWV 546 \nCamille Saint Saëns (1835-1921)\nFantaisie no.2 en Ré bémol majeur Op.101 \nFranz Liszt (1811-1886)\n“Ad nos\, ad salutarem undam” S.259 \n  \nMore information: Stichting Nijmeegse Orgelkring
URL:https://francescajossa.com/event/2589/
LOCATION:Stevenskerk\, Sint Stevenskerkhof 62\, Nijmegen\, Gelderland\, 6511VZ\, Netherlands
END:VEVENT
BEGIN:VEVENT
DTSTART;TZID=UTC:20250807T200000
DTEND;TZID=UTC:20250807T213000
DTSTAMP:20260425T141150
CREATED:20250511T120904Z
LAST-MODIFIED:20250511T121005Z
UID:2644-1754596800-1754602200@francescajossa.com
SUMMARY:Organ concert - Gorinchem (NL)
DESCRIPTION:Concert programme\nJohann Sebastian Bach (1685-1750)\nTriosonate IV in E-moll\, BWV528 \nMarcel Dupré (1886-1971)\nSymphonie-Passion op. 23 \n\nLe Monde dans l’attente du Sauveur\nNativité\nCrucifixion\nRésurrection\n\n*In addition to the above pieces\, Arjen Versluis\, organist of the Grote Kerk\, will play additional repertoire and improvisations. \nMore information: Gorinchem Orgelstad
URL:https://francescajossa.com/event/organ-concert-gorinchem-nl/
LOCATION:Grote Kerk Gorinchem\, Groenmarkt 7\, Gorinchem\, Zuid-Holland\, 4102GB\, Netherlands
END:VEVENT
BEGIN:VEVENT
DTSTART;TZID=UTC:20250808T120000
DTEND;TZID=UTC:20250808T140000
DTSTAMP:20260425T141150
CREATED:20250511T122219Z
LAST-MODIFIED:20250511T122424Z
UID:2650-1754654400-1754661600@francescajossa.com
SUMMARY:Organ concert - Alkmaar (NL)
DESCRIPTION:Concert programme\n-Van Covelens organ-\nAndries van Rossem (1957*)\nOneliner \n-Van Hagerbeer/Schnitger organ-\nJohann Ludwig Krebs (1713-1780)\nTrio in E-Flat Major\, Krebs-WV 443 \nJohann Sebastian Bach (1685-1750)\nPrelude in C minor\, BWV 546\nChrist\, unser Herr\, zum Jordan kam\, BWV 684\nFugue in C minor\, BWV 546 \n*This program will be performed twice\, once at 12:00 and once at 13:00. \nMore information: Grote Kerk Alkmaar
URL:https://francescajossa.com/event/organ-concert-alkmaar-nl/
LOCATION:Grote of Sint-Laurenskerk Alkmaar\, Koorstraat 2\, Alkmaar\, Noord-Holland\, 1811GP\, Netherlands
END:VEVENT
BEGIN:VEVENT
DTSTART;TZID=UTC:20250812T201500
DTEND;TZID=UTC:20250812T211500
DTSTAMP:20260425T141150
CREATED:20250306T233040Z
LAST-MODIFIED:20250511T121123Z
UID:2594-1755029700-1755033300@francescajossa.com
SUMMARY:Organ concert - Middelburg (NL)
DESCRIPTION:Concert programme\nJohann Sebastian Bach (1685-1750)\nPrelude in C minor\, BWV 546\nChrist\, unser Herr\, zum Jordan kam\, BWV 684\nFugue in C minor\, BWV 546 \nMargaretha Cristina de Jong (1961*)\nPrélude\, Chroal varié et Fugue sur\nVeni redemptor gentium \nMarcel Dupré (1886-1971)\nSymphonie-Passion op. 23 \n\nLe Monde dans l’attente du Sauveur\nNativité\nCrucifixion\nRésurrection\n\nMore information: Orgelstad Middelburg
URL:https://francescajossa.com/event/organ-concert-middelburg-nl/
LOCATION:Nieuwe Kerk Middelburg\, Onder Den Toren 1\, Middelburg\, Zeeland\, 4331BD\, Netherlands
END:VEVENT
BEGIN:VEVENT
DTSTART;TZID=UTC:20250814T200000
DTEND;TZID=UTC:20250814T210000
DTSTAMP:20260425T141150
CREATED:20250518T170458Z
LAST-MODIFIED:20250518T170518Z
UID:2665-1755201600-1755205200@francescajossa.com
SUMMARY:Organ concert - Barneveld (NL)
DESCRIPTION:Concert programme\nGeorg Muffat (1653-1704)\nToccata Septima (Apparatus musico-organisticus\, 1690) \nGottfried August Homilius (1714-1785)\nUit 32 Praeludia zu geistlichen Liedern für zwei Claviere und Pedal:\n– Schmücke dich\, o liebe Seele\, HoWV VIII.17\n– Herzlich lieb hab ich dich\, o Herre\, HoWV VIII.12 \nJohann Sebastian Bach (1685-1750)\nPartite diverse sopra: Sei gegrüßet\, Jesu gütig\, BWV 768 \nJohannes Brahms (1833-1897)\nUit 11 Choral-Vorspiele\, Op. 122:\nNo.4 Herzlich tut mich erfreuen\nNo.10. Herzlich tut mich verlangen \nFranz Schmidt (1874-1939)\nToccata in C \n  \n  \nMore information: Stichting Concerten Oude Kerk Barneveld
URL:https://francescajossa.com/event/organ-concert-barneveld-nl/
LOCATION:Oude Kerk Barneveld\, Torenplein 1\, Barneveld\, Gelderland\, 3772CX\, Netherlands
END:VEVENT
BEGIN:VEVENT
DTSTART;TZID=UTC:20250816T130000
DTEND;TZID=UTC:20250816T140000
DTSTAMP:20260425T141150
CREATED:20250802T193638Z
LAST-MODIFIED:20250802T193638Z
UID:2729-1755349200-1755352800@francescajossa.com
SUMMARY:Organ concert - Utrecht (NL)
DESCRIPTION:Concert programme\n– Sweelinckorgel – \nGeorg Muffat (1653-1704)\nToccata Septima (Apparatus musico-organisticus\, 1690) \n– Hoofdorgel – \nJohann Sebastian Bach (1685-1750)\nTriosonate IV\, BWV528 \nJohannes Brahms (1833-1897)\nUit 11 Choral-Vorspiele\, Op. 122:\nNo.4 Herzlich tut mich erfreuen\nNo.10. Herzlich tut mich verlangen \nMax Reger (1873-1916)\nBenedictus op.59 Nr. 9 \nFranz Schmidt (1874-1939)\nToccata in C \n  \n  \nMore information: Nicolaiconcerten Utrecht
URL:https://francescajossa.com/event/organ-concert-utrecht-nl/
LOCATION:Nicolaikerk\, Nicolaaskerkhof 8\, Utrecht\, Netherlands
END:VEVENT
BEGIN:VEVENT
DTSTART;TZID=UTC:20250818T200000
DTEND;TZID=UTC:20250818T210000
DTSTAMP:20260425T141150
CREATED:20250802T194155Z
LAST-MODIFIED:20250802T194236Z
UID:2732-1755547200-1755550800@francescajossa.com
SUMMARY:Organ concert - Ommen (NL)
DESCRIPTION:Concert programme\nGeorg Muffat (1653-1704)\nToccata Septima (Apparatus musico-organisticus\, 1690) \nFranz Danksagmüller (1969*)\nEstampie \nDieterich Buxthude (1637-1707)\nPassacaglia in D\, BuxWV 161\nTe Deum Laudamus\, BuxVW 218 \nAndries van Rossem (1957*)\nOneliner \nJohann Sebastian Bach (1685-1750)\nToccata and fugue in D minor BWV 538 \n  \n  \nMore information: Edskes orgel Ommen
URL:https://francescajossa.com/event/organ-concert-ommen-nl/
LOCATION:Het Baken\, Trompstraat 2\, Ommen\, 7731 CK\, Netherlands
END:VEVENT
BEGIN:VEVENT
DTSTART;TZID=UTC:20250821T201500
DTEND;TZID=UTC:20250821T213000
DTSTAMP:20260425T141150
CREATED:20250512T223135Z
LAST-MODIFIED:20250512T223135Z
UID:2660-1755807300-1755811800@francescajossa.com
SUMMARY:Organ concert - Harderwijk (NL)
DESCRIPTION:Concert programme\nGeorg Muffat (1653-1704)\nToccata Septima (Apparatus musico-organisticus\, 1690) \nDietrich Buxtehude (1637-1707)\nPassacaglia in D\, BuxWV 161 \nFranz Danksagmüller (1969*)\nEstampie \nRobert Schumann (1810-1856)\n6 Studien in kanonischer Form\, Op.56\n1. Nicht zu schnell\n2. Mit innigem Ausdruck\n3. Andantino\n4. Innig\n5. Nicht zu schnell\n6. Adagio \nAndries van Rossem (1957*)\nOneliner \nJohann Sebastian Bach (1685-1750)\nToccata und fugue in D-moll\, BWV 538 \n  \n  \nMore information: Orgelconcerten Grote Kerk Harderwijk
URL:https://francescajossa.com/event/organ-concert-harderwijk-nl/
LOCATION:Grote Kerk Harderwijk\, Kerkplein 1\, Harderwijk\, Gelderland\, 3841EC\, Netherlands
END:VEVENT
BEGIN:VEVENT
DTSTART;TZID=UTC:20250903T200000
DTEND;TZID=UTC:20250903T210000
DTSTAMP:20260425T141150
CREATED:20250802T194908Z
LAST-MODIFIED:20250802T194908Z
UID:2737-1756929600-1756933200@francescajossa.com
SUMMARY:Organ concert - Amersfoort (NL)
DESCRIPTION:Concert programme\n– Koororgel – \nGeorg Muffat (1653-1704)\nToccata Septima (Apparatus musico-organisticus\, 1690) \nGottfried August Homilius (1714-1785)\nUit 32 Praeludia zu geistlichen Liedern für zwei Claviere und Pedal:\n– Schmücke dich\, o liebe Seele\, HoWV VIII.17\n– Herzlich lieb hab ich dich\, o Herre\, HoWV VIII.12 \n– Naber-orgel – \nCamille Saint Saëns (1835-1921)\nFantaisie no.2 en Ré bémol majeur Op.101 \nMarcel Dupré (1886-1971)\nSymphonie-Passion op. 23 \n\nLe Monde dans l’attente du Sauveur\nNativité\nCrucifixion\nRésurrection\n\nMore information: Orgelconcerten Joriskerk
URL:https://francescajossa.com/event/organ-concert-amersfoort-nl/
LOCATION:Joriskerk\, Hof 1\, Amersfoort\, 3811 CJ\, Netherlands
END:VEVENT
BEGIN:VEVENT
DTSTART;TZID=UTC:20250914T150000
DTEND;TZID=UTC:20250914T160000
DTSTAMP:20260425T141150
CREATED:20250830T092247Z
LAST-MODIFIED:20250830T092247Z
UID:2767-1757862000-1757865600@francescajossa.com
SUMMARY:Organ concert - Boxtel (NL)
DESCRIPTION:Concert programme\nGirolamo Frescobaldi (1583-1643)\nToccata Terza\, dal primo libro di toccate \nHugo Distler (1908-1942)\nVariationen “Elselein\, liebstes Elselein” \nGottfried August Homilius (1714-1785)\nUit 32 Praeludia zu geistlichen Liedern für zwei Claviere und Pedal:\n– Schmücke dich\, o liebe Seele\, HoWV VIII.17\n– Herzlich lieb hab ich dich\, o Herre\, HoWV VIII.12 \nFranz Danksagmüller (1969-)\nEstampie \nGeorg Muffat (1653-1704)\nToccata Septima (Apparatus musico-organisticus\, 1690) \n  \nMore information: Stichting Kerkconcerten Boxtel
URL:https://francescajossa.com/event/organ-concert-boxtel-nl/
LOCATION:Protestantse Kerk Boxtel\, Clarissenstraat 18\, Boxtel\, 5281AZ\, Netherlands
END:VEVENT
BEGIN:VEVENT
DTSTART;TZID=UTC:20250914T160000
DTEND;TZID=UTC:20250914T170000
DTSTAMP:20260425T141150
CREATED:20250830T092549Z
LAST-MODIFIED:20250830T092549Z
UID:2773-1757865600-1757869200@francescajossa.com
SUMMARY:Organ concert - Boxtel (NL)
DESCRIPTION:Concert programme\nJohann Sebastian Bach (1685-1750)\nToccata d-moll\, BWV 538 \nCamille Saint Saëns (1835-1921)\nFantaisie no.2 en Ré bémol majeur Op.101 \nJohannes Brahms (1833-1897)\nUit 11 Choral-Vorspiele\, Op. 122:\nNo.10. Herzlich tut mich verlangen \nMarco Enrico Bossi (1861-1925) \nTema e Variazioni\, op. 115 \nFranz Schmidt (1874-1939)\nToccata in C \n  \nMore information: Stichting Kerkconcerten Boxtel
URL:https://francescajossa.com/event/organ-concert-boxtel-nl-2/
LOCATION:Sint-Petrusbasiliek Boxtel\, Oude Kerkstraat 20\, Boxtel\, 5281 BA\, Netherlands
END:VEVENT
BEGIN:VEVENT
DTSTART;TZID=UTC:20250918T121500
DTEND;TZID=UTC:20250918T130000
DTSTAMP:20260425T141150
CREATED:20251001T061016Z
LAST-MODIFIED:20251001T061016Z
UID:2796-1758197700-1758200400@francescajossa.com
SUMMARY:Organ concert - Leuven (BE)
DESCRIPTION:Concert programme\nM. Weckmann (1621-1674)\nMagnificat II toni\n  \nJohann Sebastian Bach (1685-1750)\nTrio Sonata IV\, BWV528 \n  \nMarco Enrico Bossi (1861-1925)\nTema e Variazioni\, op. 115 \n  \nMore information: Contius Foundation
URL:https://francescajossa.com/event/organ-concert-leuven-be-13/
LOCATION:Sint-Michielskerk\, Naamsestraat 57a\, Leuven\, Vlaams-Brabant\, 3000\, Belgium
END:VEVENT
BEGIN:VEVENT
DTSTART;TZID=UTC:20250923T200000
DTEND;TZID=UTC:20250923T210000
DTSTAMP:20260425T141150
CREATED:20250830T091323Z
LAST-MODIFIED:20250830T091713Z
UID:2761-1758657600-1758661200@francescajossa.com
SUMMARY:Organ concert - Den Haag (NL)
DESCRIPTION:Concert programme\nM. Weckmann (1621-1674)\nMagnificat II toni \nJohann Sebastian Bach (1685-1750)\nTrio Sonata IV\, BWV528 \nCamille Saint Saëns (1835-1921)\nFantaisie no.2 en Ré bémol majeur Op.101 \nMarco Enrico Bossi (1861-1925)\nTema e Variazioni\, op. 115 \nFranz Schmidt (1874-1939)\nToccata in C \n  \nMore information: Stichting Orgelconcerten Grote Kerk Den Haag
URL:https://francescajossa.com/event/organ-concert-den-haag-nl-2/
LOCATION:Grote Kerk Den Haag\, Rond de Grote Kerk 12\, Den Haag\, Zuid-Holland\, 2513AM\, Netherlands
END:VEVENT
BEGIN:VEVENT
DTSTART;TZID=UTC:20250926T140000
DTEND;TZID=UTC:20250926T220000
DTSTAMP:20260425T141150
CREATED:20250830T093056Z
LAST-MODIFIED:20250830T093056Z
UID:2776-1758895200-1758924000@francescajossa.com
SUMMARY:Organ marathon - Altenburg & Freiberg (DE)
DESCRIPTION:Participation in the Organ Marathon with the Artistic Directors and Young ECHO Ambassadors from the ECHO Cities at the Castle Church in Altenburg and the Cathedral in Freiberg (with reciprocal live streaming on a big screen). \nMore info: ECHO-organs
URL:https://francescajossa.com/event/organ-marathon-altenburg-freiberg-de/
LOCATION:Freiberg Cathedral\, Untermarkt 1\, Freiberg\, 09599\, Germany
END:VEVENT
BEGIN:VEVENT
DTSTART;TZID=UTC:20251003T204500
DTEND;TZID=UTC:20251003T220000
DTSTAMP:20260425T141150
CREATED:20250830T091626Z
LAST-MODIFIED:20251001T061058Z
UID:2765-1759524300-1759528800@francescajossa.com
SUMMARY:Organ concert - Treviso (IT)
DESCRIPTION:Concert programme\n“Specchi d’Organo”\n\nGeorg Muffat (1653-1704)\nToccata Septima (Apparatus musico-organisticus\, 1690)\n\nRobert Schumann (1810-1856)\nDa “6 Studien in kanonischer from”\, Op.56\n– Nicht zu schnell\n– Mit innigem Ausdruck\n– Nicht zu schnell\n– Adagio\n\nFranz Danksagmüller (1969-)\nEstampie\n\nGiovanni Pietro Calvi (1806-1846)\nProva per un organo moderno\n\nCarlo Andrea Gambini (1819-1865)\nDa “L’organo moderno” Op.106:\n– Preludio\n– Pastorale\n– Andante\n– Adagio\n\nGiovanni Morandi (1777-1856)\nIntroduzione Tema con Variazioni e Finale con l’ di piena orchestra\n  \nMore information: Asolo Musica
URL:https://francescajossa.com/event/organ-concert-leuven-be-12/
LOCATION:Chiesa di San Cassiano\, Via San Cassiano 54\, Quinto di Treviso\, Italy\, TV 31055
END:VEVENT
BEGIN:VEVENT
DTSTART;TZID=UTC:20251011T170000
DTEND;TZID=UTC:20251011T180000
DTSTAMP:20260425T141150
CREATED:20251001T062819Z
LAST-MODIFIED:20251005T131005Z
UID:2804-1760202000-1760205600@francescajossa.com
SUMMARY:Organ & Dance concert - Leuven (BE)
DESCRIPTION:Concert programme\nwith dancer Alessia Crema \n  \n\nGirolamo Frescobaldi (1583-1643) \nDai “Fiori Musicali”\, Messa della Madonna: \nToccata avanti la Messa \n  \nJan Pieterszoon Sweelinck (1561 – 1621) \nRicercar del nono tono\, SwWV 280 \n  \nGirolamo Frescobaldi (1583-1643) \nDai “Fiori Musicali”\, Messa della Madonna: \nKyrie – Christe – Kyrie \n  \nFranz Danksagmüller (1969-) \nEstampie \n  \nGirolamo Frescobaldi (1583-1643) \nDai “Fiori Musicali”\, Messa della Madonna: \nCanzon dopo l’Epistola \nRicercar Dopo il Credo \n  \nArvo Pärt (1935-) \nPari Intervallo \n  \nGirolamo Frescobaldi (1583-1643) \nDai “Fiori Musicali”\, Messa della Madonna: \nToccata per l’elevatione \nBergamasca \n  \nGeorg Muffat (1653-1704) \nToccata Septima (Apparatus musico-organisticus\, 1690) \n\n  \nMore information: Vlierbeek900
URL:https://francescajossa.com/event/organ-dance-concert-leuven-be/
LOCATION:Vlierbeek Abbey\, Abdij Vlierbeek 14\, Leuven\, 3010\, Belgium
END:VEVENT
BEGIN:VEVENT
DTSTART;TZID=UTC:20251014T203000
DTEND;TZID=UTC:20251014T213000
DTSTAMP:20260425T141150
CREATED:20251001T062237Z
LAST-MODIFIED:20251005T131126Z
UID:2801-1760473800-1760477400@francescajossa.com
SUMMARY:Organ & Dance concert - Leuven (BE)
DESCRIPTION:Concert programme\n\n“Bodies of Sound”\, with dancer Alessia Crema. \n  \nJohann Sebastian Bach (1685-1750)\nToccata C-dur\, BWV564 \n  \nDietrich Buxtehude (1637-1707)\nPassacaglia in D\, BuxWV 161 \n  \nFranz Danksagmüller (1969-)\nEstampie \n  \nOlivier Messiaen (1908-1992)\nForce et Agilité des Corps Glorieux \n  \nJohann Sebastian Bach (1685-1750)\nAdagio\, BWV564 \n  \nJan Pieterszoon Sweelinck (1561-1621)\nRicercar del nono tono\, SwWV280 \n  \nDietrich Buxtehude (1637-1707)\nToccata d-moll\, BuxWV 155 \n  \nArvo Pärt (1935-)\nPari Intervallo \n  \nJohann Sebastian Bach (1685-1750)\nFuga C-dur\, BWV564 \n\n  \nMore information: Contius Foundation
URL:https://francescajossa.com/event/organ-concert-leuven-be-14/
LOCATION:Sint-Michielskerk\, Naamsestraat 57a\, Leuven\, Vlaams-Brabant\, 3000\, Belgium
END:VEVENT
BEGIN:VEVENT
DTSTART;TZID=UTC:20251019T160000
DTEND;TZID=UTC:20251019T170000
DTSTAMP:20260425T141150
CREATED:20251001T063843Z
LAST-MODIFIED:20251005T131156Z
UID:2810-1760889600-1760893200@francescajossa.com
SUMMARY:Organ concert - Würzburg (DE)
DESCRIPTION:Concert programme\n  \nJohann Sebastian Bach (1685-1750)\nToccata and fugue in D minor BWV 538 \n  \nMax Reger (1873-1916)\nMelodia op. 129 Nr. 4 \n  \nLouis Vierne (1870-1937)\nSymphony No.1\, Op.14 \n\nPrélude\nFugue\nPastorale\nAllegro vivace\nAndante\nFinal\n\n  \nMore information: Kirchenmusik Marianhill
URL:https://francescajossa.com/event/organ-concert-wurzburg-de/
LOCATION:Klosterkirche Mariannhill\, Mariannhillstraße 1\, Würzburg\, Bayern\, 97074\, Germany
END:VEVENT
BEGIN:VEVENT
DTSTART;TZID=UTC:20251030T121500
DTEND;TZID=UTC:20251030T130000
DTSTAMP:20260425T141150
CREATED:20251001T063455Z
LAST-MODIFIED:20251001T063455Z
UID:2807-1761826500-1761829200@francescajossa.com
SUMMARY:Organ concert - Leuven (BE)
DESCRIPTION:Concert programme\n  \n\nJohann Sebastian Bach (1685-1750)\nPrelude in C minor\, BWV 546\nChrist\, unser Herr\, zum Jordan kam\, BWV 684\nFugue in C minor\, BWV 546 \n  \nMargaretha Cristina de Jong (1961*)\nPrélude\, Choral varié et Fugue sur: Veni redemptor gentium \n\n  \nMore information: Contius Foundation
URL:https://francescajossa.com/event/organ-concert-leuven-be-15/
LOCATION:Sint-Michielskerk\, Naamsestraat 57a\, Leuven\, Vlaams-Brabant\, 3000\, Belgium
END:VEVENT
BEGIN:VEVENT
DTSTART;TZID=UTC:20251107T203000
DTEND;TZID=UTC:20251107T220000
DTSTAMP:20260425T141150
CREATED:20251101T211055Z
LAST-MODIFIED:20251101T211055Z
UID:2829-1762547400-1762552800@francescajossa.com
SUMMARY:Organ concert - León (ES)
DESCRIPTION:Concert programme\n  \nJohann Sebastian Bach (1685-1750)\nToccata and fugue in D minor BWV 538 \n  \nMax Reger (1873-1916)\nMelodia op. 129 Nr. 4 \n  \nLouis Vierne (1870-1937)\nSymphony No.1\, Op.14 \n\nPrélude\nFugue\nPastorale\nAllegro vivace\nAndante\nFinal\n\n  \nMore information: Catedral de León
URL:https://francescajossa.com/event/organ-concert-leon-es/
LOCATION:Catedral de León\, Plaza de San Marcelo\, León\, 24001\, Spain
END:VEVENT
BEGIN:VEVENT
DTSTART;TZID=UTC:20251122T160000
DTEND;TZID=UTC:20251122T170000
DTSTAMP:20260425T141150
CREATED:20251101T211501Z
LAST-MODIFIED:20251101T211501Z
UID:2833-1763827200-1763830800@francescajossa.com
SUMMARY:Organ & harpsichord concert - Bennekom (NL)
DESCRIPTION:Concert programme\n  \n– orgel – \n\nJ.P. Sweelinck (1561-1621) – Ricercar del nono tono\, SwWV 280\n\n– klavecimbel – \n\nJ. J. Froberger (1616-1667) – Suite No.2 in D minor\nAllemande\nSarabande\nGigue\n\nJ.S. Bach (1685-1750) – Sechs kleine Präludien\nD-dur\, BWV 925\nd-moll\, BWV 926\nF-dur\, BWV 927\nF-dur\, BWV 928\ng-moll\, BWV 929\ng-moll\, BWV 930\n\n– orgel – \n\nJ.S. Bach (1685-1750) – Sechs kleine Präludien\nC-dur\, BWV 933\nc-moll\, BWV 934\nd-moll\, BWV 935\nD-dur\, BWV 936\nE-dur\, BWV 937\ne-moll\, BWV 938\n\nC.P.E. Bach (1714-1788) – Sonate in F groot\, Wq70-3\nAllegro\nLargo\nAllegretto\n\nH. F. Micheelsen (1902-1973) – Präludium in D\, op. 32\n  \nMore information: Kabinetorgel Bennekom
URL:https://francescajossa.com/event/organ-harpsichord-concert-bennekom-nl/
LOCATION:Oude of St. Alexanderkerk\, Dorpsstraat 45\, Bennekom\, 6721 JJ\, Netherlands
END:VEVENT
BEGIN:VEVENT
DTSTART;TZID=UTC:20260328T160000
DTEND;TZID=UTC:20260328T170000
DTSTAMP:20260425T141150
CREATED:20260101T185530Z
LAST-MODIFIED:20260306T201039Z
UID:2858-1774713600-1774717200@francescajossa.com
SUMMARY:Organ concert - Kapelle (NL)
DESCRIPTION:Concert programme\n  \n\n“Master and Student” \nJan Pieterszoon Sweelinck (1561-1621)\nRicercar del nono tono\, SwWV 280 \n  \nHeinrich Scheidemann (1595-1663)\nCanzona in F\, WV 44 \n  \nDietrich Buxtehude (1637-1707)\nToccata G-dur\, BuxWV 164 \n  \nJohann Sebastian Bach (1685-1750)\nSonata no. 3\, d-moll BWV 527\n– Andante\n– Adagio e dolce\n– Vivace \n  \nCarl Philipp Emanuel Bach (1714-1788)\nFantasia und Fuge c-Moll\, Wq 119/7 \n  \nWolfgang Amadeus Mozart (1756-1791)\nFantasie F-moll\, KV 608 \n\n  \nMore information: Stichting Bätz-Witte Concerts Kapelle
URL:https://francescajossa.com/event/organ-concert-kapelle-nl/
LOCATION:Hervormde Kerk Kapelle\, Kerkplein 4\, Kapelle\, Zeeland\, Netherlands
END:VEVENT
BEGIN:VEVENT
DTSTART;TZID=UTC:20260404T153000
DTEND;TZID=UTC:20260404T163000
DTSTAMP:20260425T141150
CREATED:20260123T200747Z
LAST-MODIFIED:20260208T153441Z
UID:2866-1775316600-1775320200@francescajossa.com
SUMMARY:Organ concert - Berlin (DE)
DESCRIPTION:Concert programme\n  \nJohann Sebastian Bach (1685-1750)\nPraeludium h-moll\, BWV 544 \nJohann Sebastian Bach / Max Reger (1873-1916)\nInventio 15\, h-moll\, BWV 786\, Allegro non troppo \nJohann Sebastian Bach\nFuge h-moll\, BWV 544 \n  \nAlexandre Pierre-François Boëly (1785-1858)\n“Bin Ich Gleich Von Dir Gewichen” \n  \nCésar Franck (1822-1890)\nDeuxième Choral \n  \nOttorino Respighi (1879-1936)\nPreludio in La minore sopra un corale di Bach (Ich hab mein Sach Gott heimgestellt) \n  \nMarcel Dupré (1886-1971)\nSymphonie-Passion op. 23\nI. Le Monde dans l’attente du Sauveur\nII. Nativité\nIII. Crucifixion\nIV. Résurrection \nMore information: Konzerthaus Berlin
URL:https://francescajossa.com/event/organ-concert-berlin-de-2/
LOCATION:Konzerthaus Berlin\, Gendarmenmarkt 2\, Berlin\, 10117\, Germany
END:VEVENT
BEGIN:VEVENT
DTSTART;TZID=UTC:20260416T201500
DTEND;TZID=UTC:20260416T213000
DTSTAMP:20260425T141150
CREATED:20260408T104350Z
LAST-MODIFIED:20260408T104350Z
UID:3116-1776370500-1776375000@francescajossa.com
SUMMARY:Ensemble - Amsterdam (NL)
DESCRIPTION:Concert programme\n  \nPremiere of I. Vukosavljević’s Dead in Love. Contribution as harpsichord player. \n  \nMore information: Het Muziek
URL:https://francescajossa.com/event/ensemble-amsterdam-nl/
LOCATION:Muziekgebouw aan ‘t Ij\, Piet Heinkade 1\, Amsterdam\, 1019 BR\, Netherlands
END:VEVENT
BEGIN:VEVENT
DTSTART;TZID=UTC:20260422T201500
DTEND;TZID=UTC:20260422T213000
DTSTAMP:20260425T141150
CREATED:20260408T104745Z
LAST-MODIFIED:20260408T104842Z
UID:3119-1776888900-1776893400@francescajossa.com
SUMMARY:Ensemble - Den Haag (NL)
DESCRIPTION:Concert programme\n  \nPremiere of I. Vukosavljević’s Dead in Love. Contribution as harpsichord player. \n  \nMore information: Het Muziek
URL:https://francescajossa.com/event/ensemble-den-haag-nl/
LOCATION:Nieuwe Kerk Den Haag\, Spui 175\, Den Haag\, Zuid-Holland\, 2511BM\, Netherlands
END:VEVENT
BEGIN:VEVENT
DTSTART;TZID=UTC:20260425T120000
DTEND;TZID=UTC:20260425T233000
DTSTAMP:20260425T141150
CREATED:20260408T103628Z
LAST-MODIFIED:20260408T103628Z
UID:3113-1777118400-1777159800@francescajossa.com
SUMMARY:Organ marathon - Leuven (BE)
DESCRIPTION:Concert programme\n  \n12 hours of music and speakers for Peace. \nContribution as an organist in duo with Laurens de Man and with the SLAC Dance Department. \n  \nMore information: Contius Foundation
URL:https://francescajossa.com/event/organ-marathon-leuven-be/
LOCATION:Sint-Michielskerk\, Naamsestraat 57a\, Leuven\, Vlaams-Brabant\, 3000\, Belgium
END:VEVENT
END:VCALENDAR