BEGIN:VCALENDAR
VERSION:2.0
PRODID:-//Francesca Ajossa - ECPv6.13.2.1//NONSGML v1.0//EN
CALSCALE:GREGORIAN
METHOD:PUBLISH
X-WR-CALNAME:Francesca Ajossa
X-ORIGINAL-URL:https://francescajossa.com
X-WR-CALDESC:Events for Francesca Ajossa
REFRESH-INTERVAL;VALUE=DURATION:PT1H
X-Robots-Tag:noindex
X-PUBLISHED-TTL:PT1H
BEGIN:VTIMEZONE
TZID:UTC
BEGIN:STANDARD
TZOFFSETFROM:+0000
TZOFFSETTO:+0000
TZNAME:UTC
DTSTART:20250101T000000
END:STANDARD
END:VTIMEZONE
BEGIN:VEVENT
DTSTART;TZID=UTC:20250923T200000
DTEND;TZID=UTC:20250923T210000
DTSTAMP:20260425T125318
CREATED:20250830T091323Z
LAST-MODIFIED:20250830T091713Z
UID:2761-1758657600-1758661200@francescajossa.com
SUMMARY:Organ concert - Den Haag (NL)
DESCRIPTION:Concert programme\nM. Weckmann (1621-1674)\nMagnificat II toni \nJohann Sebastian Bach (1685-1750)\nTrio Sonata IV\, BWV528 \nCamille Saint Saëns (1835-1921)\nFantaisie no.2 en Ré bémol majeur Op.101 \nMarco Enrico Bossi (1861-1925)\nTema e Variazioni\, op. 115 \nFranz Schmidt (1874-1939)\nToccata in C \n  \nMore information: Stichting Orgelconcerten Grote Kerk Den Haag
URL:https://francescajossa.com/event/organ-concert-den-haag-nl-2/
LOCATION:Grote Kerk Den Haag\, Rond de Grote Kerk 12\, Den Haag\, Zuid-Holland\, 2513AM\, Netherlands
END:VEVENT
BEGIN:VEVENT
DTSTART;TZID=UTC:20250926T140000
DTEND;TZID=UTC:20250926T220000
DTSTAMP:20260425T125318
CREATED:20250830T093056Z
LAST-MODIFIED:20250830T093056Z
UID:2776-1758895200-1758924000@francescajossa.com
SUMMARY:Organ marathon - Altenburg & Freiberg (DE)
DESCRIPTION:Participation in the Organ Marathon with the Artistic Directors and Young ECHO Ambassadors from the ECHO Cities at the Castle Church in Altenburg and the Cathedral in Freiberg (with reciprocal live streaming on a big screen). \nMore info: ECHO-organs
URL:https://francescajossa.com/event/organ-marathon-altenburg-freiberg-de/
LOCATION:Freiberg Cathedral\, Untermarkt 1\, Freiberg\, 09599\, Germany
END:VEVENT
BEGIN:VEVENT
DTSTART;TZID=UTC:20251003T204500
DTEND;TZID=UTC:20251003T220000
DTSTAMP:20260425T125318
CREATED:20250830T091626Z
LAST-MODIFIED:20251001T061058Z
UID:2765-1759524300-1759528800@francescajossa.com
SUMMARY:Organ concert - Treviso (IT)
DESCRIPTION:Concert programme\n“Specchi d’Organo”\n\nGeorg Muffat (1653-1704)\nToccata Septima (Apparatus musico-organisticus\, 1690)\n\nRobert Schumann (1810-1856)\nDa “6 Studien in kanonischer from”\, Op.56\n– Nicht zu schnell\n– Mit innigem Ausdruck\n– Nicht zu schnell\n– Adagio\n\nFranz Danksagmüller (1969-)\nEstampie\n\nGiovanni Pietro Calvi (1806-1846)\nProva per un organo moderno\n\nCarlo Andrea Gambini (1819-1865)\nDa “L’organo moderno” Op.106:\n– Preludio\n– Pastorale\n– Andante\n– Adagio\n\nGiovanni Morandi (1777-1856)\nIntroduzione Tema con Variazioni e Finale con l’ di piena orchestra\n  \nMore information: Asolo Musica
URL:https://francescajossa.com/event/organ-concert-leuven-be-12/
LOCATION:Chiesa di San Cassiano\, Via San Cassiano 54\, Quinto di Treviso\, Italy\, TV 31055
END:VEVENT
BEGIN:VEVENT
DTSTART;TZID=UTC:20251011T170000
DTEND;TZID=UTC:20251011T180000
DTSTAMP:20260425T125318
CREATED:20251001T062819Z
LAST-MODIFIED:20251005T131005Z
UID:2804-1760202000-1760205600@francescajossa.com
SUMMARY:Organ & Dance concert - Leuven (BE)
DESCRIPTION:Concert programme\nwith dancer Alessia Crema \n  \n\nGirolamo Frescobaldi (1583-1643) \nDai “Fiori Musicali”\, Messa della Madonna: \nToccata avanti la Messa \n  \nJan Pieterszoon Sweelinck (1561 – 1621) \nRicercar del nono tono\, SwWV 280 \n  \nGirolamo Frescobaldi (1583-1643) \nDai “Fiori Musicali”\, Messa della Madonna: \nKyrie – Christe – Kyrie \n  \nFranz Danksagmüller (1969-) \nEstampie \n  \nGirolamo Frescobaldi (1583-1643) \nDai “Fiori Musicali”\, Messa della Madonna: \nCanzon dopo l’Epistola \nRicercar Dopo il Credo \n  \nArvo Pärt (1935-) \nPari Intervallo \n  \nGirolamo Frescobaldi (1583-1643) \nDai “Fiori Musicali”\, Messa della Madonna: \nToccata per l’elevatione \nBergamasca \n  \nGeorg Muffat (1653-1704) \nToccata Septima (Apparatus musico-organisticus\, 1690) \n\n  \nMore information: Vlierbeek900
URL:https://francescajossa.com/event/organ-dance-concert-leuven-be/
LOCATION:Vlierbeek Abbey\, Abdij Vlierbeek 14\, Leuven\, 3010\, Belgium
END:VEVENT
BEGIN:VEVENT
DTSTART;TZID=UTC:20251014T203000
DTEND;TZID=UTC:20251014T213000
DTSTAMP:20260425T125318
CREATED:20251001T062237Z
LAST-MODIFIED:20251005T131126Z
UID:2801-1760473800-1760477400@francescajossa.com
SUMMARY:Organ & Dance concert - Leuven (BE)
DESCRIPTION:Concert programme\n\n“Bodies of Sound”\, with dancer Alessia Crema. \n  \nJohann Sebastian Bach (1685-1750)\nToccata C-dur\, BWV564 \n  \nDietrich Buxtehude (1637-1707)\nPassacaglia in D\, BuxWV 161 \n  \nFranz Danksagmüller (1969-)\nEstampie \n  \nOlivier Messiaen (1908-1992)\nForce et Agilité des Corps Glorieux \n  \nJohann Sebastian Bach (1685-1750)\nAdagio\, BWV564 \n  \nJan Pieterszoon Sweelinck (1561-1621)\nRicercar del nono tono\, SwWV280 \n  \nDietrich Buxtehude (1637-1707)\nToccata d-moll\, BuxWV 155 \n  \nArvo Pärt (1935-)\nPari Intervallo \n  \nJohann Sebastian Bach (1685-1750)\nFuga C-dur\, BWV564 \n\n  \nMore information: Contius Foundation
URL:https://francescajossa.com/event/organ-concert-leuven-be-14/
LOCATION:Sint-Michielskerk\, Naamsestraat 57a\, Leuven\, Vlaams-Brabant\, 3000\, Belgium
END:VEVENT
BEGIN:VEVENT
DTSTART;TZID=UTC:20251019T160000
DTEND;TZID=UTC:20251019T170000
DTSTAMP:20260425T125318
CREATED:20251001T063843Z
LAST-MODIFIED:20251005T131156Z
UID:2810-1760889600-1760893200@francescajossa.com
SUMMARY:Organ concert - Würzburg (DE)
DESCRIPTION:Concert programme\n  \nJohann Sebastian Bach (1685-1750)\nToccata and fugue in D minor BWV 538 \n  \nMax Reger (1873-1916)\nMelodia op. 129 Nr. 4 \n  \nLouis Vierne (1870-1937)\nSymphony No.1\, Op.14 \n\nPrélude\nFugue\nPastorale\nAllegro vivace\nAndante\nFinal\n\n  \nMore information: Kirchenmusik Marianhill
URL:https://francescajossa.com/event/organ-concert-wurzburg-de/
LOCATION:Klosterkirche Mariannhill\, Mariannhillstraße 1\, Würzburg\, Bayern\, 97074\, Germany
END:VEVENT
BEGIN:VEVENT
DTSTART;TZID=UTC:20251030T121500
DTEND;TZID=UTC:20251030T130000
DTSTAMP:20260425T125318
CREATED:20251001T063455Z
LAST-MODIFIED:20251001T063455Z
UID:2807-1761826500-1761829200@francescajossa.com
SUMMARY:Organ concert - Leuven (BE)
DESCRIPTION:Concert programme\n  \n\nJohann Sebastian Bach (1685-1750)\nPrelude in C minor\, BWV 546\nChrist\, unser Herr\, zum Jordan kam\, BWV 684\nFugue in C minor\, BWV 546 \n  \nMargaretha Cristina de Jong (1961*)\nPrélude\, Choral varié et Fugue sur: Veni redemptor gentium \n\n  \nMore information: Contius Foundation
URL:https://francescajossa.com/event/organ-concert-leuven-be-15/
LOCATION:Sint-Michielskerk\, Naamsestraat 57a\, Leuven\, Vlaams-Brabant\, 3000\, Belgium
END:VEVENT
BEGIN:VEVENT
DTSTART;TZID=UTC:20251107T203000
DTEND;TZID=UTC:20251107T220000
DTSTAMP:20260425T125318
CREATED:20251101T211055Z
LAST-MODIFIED:20251101T211055Z
UID:2829-1762547400-1762552800@francescajossa.com
SUMMARY:Organ concert - León (ES)
DESCRIPTION:Concert programme\n  \nJohann Sebastian Bach (1685-1750)\nToccata and fugue in D minor BWV 538 \n  \nMax Reger (1873-1916)\nMelodia op. 129 Nr. 4 \n  \nLouis Vierne (1870-1937)\nSymphony No.1\, Op.14 \n\nPrélude\nFugue\nPastorale\nAllegro vivace\nAndante\nFinal\n\n  \nMore information: Catedral de León
URL:https://francescajossa.com/event/organ-concert-leon-es/
LOCATION:Catedral de León\, Plaza de San Marcelo\, León\, 24001\, Spain
END:VEVENT
BEGIN:VEVENT
DTSTART;TZID=UTC:20251122T160000
DTEND;TZID=UTC:20251122T170000
DTSTAMP:20260425T125318
CREATED:20251101T211501Z
LAST-MODIFIED:20251101T211501Z
UID:2833-1763827200-1763830800@francescajossa.com
SUMMARY:Organ & harpsichord concert - Bennekom (NL)
DESCRIPTION:Concert programme\n  \n– orgel – \n\nJ.P. Sweelinck (1561-1621) – Ricercar del nono tono\, SwWV 280\n\n– klavecimbel – \n\nJ. J. Froberger (1616-1667) – Suite No.2 in D minor\nAllemande\nSarabande\nGigue\n\nJ.S. Bach (1685-1750) – Sechs kleine Präludien\nD-dur\, BWV 925\nd-moll\, BWV 926\nF-dur\, BWV 927\nF-dur\, BWV 928\ng-moll\, BWV 929\ng-moll\, BWV 930\n\n– orgel – \n\nJ.S. Bach (1685-1750) – Sechs kleine Präludien\nC-dur\, BWV 933\nc-moll\, BWV 934\nd-moll\, BWV 935\nD-dur\, BWV 936\nE-dur\, BWV 937\ne-moll\, BWV 938\n\nC.P.E. Bach (1714-1788) – Sonate in F groot\, Wq70-3\nAllegro\nLargo\nAllegretto\n\nH. F. Micheelsen (1902-1973) – Präludium in D\, op. 32\n  \nMore information: Kabinetorgel Bennekom
URL:https://francescajossa.com/event/organ-harpsichord-concert-bennekom-nl/
LOCATION:Oude of St. Alexanderkerk\, Dorpsstraat 45\, Bennekom\, 6721 JJ\, Netherlands
END:VEVENT
BEGIN:VEVENT
DTSTART;TZID=UTC:20260328T160000
DTEND;TZID=UTC:20260328T170000
DTSTAMP:20260425T125318
CREATED:20260101T185530Z
LAST-MODIFIED:20260306T201039Z
UID:2858-1774713600-1774717200@francescajossa.com
SUMMARY:Organ concert - Kapelle (NL)
DESCRIPTION:Concert programme\n  \n\n“Master and Student” \nJan Pieterszoon Sweelinck (1561-1621)\nRicercar del nono tono\, SwWV 280 \n  \nHeinrich Scheidemann (1595-1663)\nCanzona in F\, WV 44 \n  \nDietrich Buxtehude (1637-1707)\nToccata G-dur\, BuxWV 164 \n  \nJohann Sebastian Bach (1685-1750)\nSonata no. 3\, d-moll BWV 527\n– Andante\n– Adagio e dolce\n– Vivace \n  \nCarl Philipp Emanuel Bach (1714-1788)\nFantasia und Fuge c-Moll\, Wq 119/7 \n  \nWolfgang Amadeus Mozart (1756-1791)\nFantasie F-moll\, KV 608 \n\n  \nMore information: Stichting Bätz-Witte Concerts Kapelle
URL:https://francescajossa.com/event/organ-concert-kapelle-nl/
LOCATION:Hervormde Kerk Kapelle\, Kerkplein 4\, Kapelle\, Zeeland\, Netherlands
END:VEVENT
BEGIN:VEVENT
DTSTART;TZID=UTC:20260404T153000
DTEND;TZID=UTC:20260404T163000
DTSTAMP:20260425T125318
CREATED:20260123T200747Z
LAST-MODIFIED:20260208T153441Z
UID:2866-1775316600-1775320200@francescajossa.com
SUMMARY:Organ concert - Berlin (DE)
DESCRIPTION:Concert programme\n  \nJohann Sebastian Bach (1685-1750)\nPraeludium h-moll\, BWV 544 \nJohann Sebastian Bach / Max Reger (1873-1916)\nInventio 15\, h-moll\, BWV 786\, Allegro non troppo \nJohann Sebastian Bach\nFuge h-moll\, BWV 544 \n  \nAlexandre Pierre-François Boëly (1785-1858)\n“Bin Ich Gleich Von Dir Gewichen” \n  \nCésar Franck (1822-1890)\nDeuxième Choral \n  \nOttorino Respighi (1879-1936)\nPreludio in La minore sopra un corale di Bach (Ich hab mein Sach Gott heimgestellt) \n  \nMarcel Dupré (1886-1971)\nSymphonie-Passion op. 23\nI. Le Monde dans l’attente du Sauveur\nII. Nativité\nIII. Crucifixion\nIV. Résurrection \nMore information: Konzerthaus Berlin
URL:https://francescajossa.com/event/organ-concert-berlin-de-2/
LOCATION:Konzerthaus Berlin\, Gendarmenmarkt 2\, Berlin\, 10117\, Germany
END:VEVENT
BEGIN:VEVENT
DTSTART;TZID=UTC:20260416T201500
DTEND;TZID=UTC:20260416T213000
DTSTAMP:20260425T125318
CREATED:20260408T104350Z
LAST-MODIFIED:20260408T104350Z
UID:3116-1776370500-1776375000@francescajossa.com
SUMMARY:Ensemble - Amsterdam (NL)
DESCRIPTION:Concert programme\n  \nPremiere of I. Vukosavljević’s Dead in Love. Contribution as harpsichord player. \n  \nMore information: Het Muziek
URL:https://francescajossa.com/event/ensemble-amsterdam-nl/
LOCATION:Muziekgebouw aan ‘t Ij\, Piet Heinkade 1\, Amsterdam\, 1019 BR\, Netherlands
END:VEVENT
BEGIN:VEVENT
DTSTART;TZID=UTC:20260422T201500
DTEND;TZID=UTC:20260422T213000
DTSTAMP:20260425T125318
CREATED:20260408T104745Z
LAST-MODIFIED:20260408T104842Z
UID:3119-1776888900-1776893400@francescajossa.com
SUMMARY:Ensemble - Den Haag (NL)
DESCRIPTION:Concert programme\n  \nPremiere of I. Vukosavljević’s Dead in Love. Contribution as harpsichord player. \n  \nMore information: Het Muziek
URL:https://francescajossa.com/event/ensemble-den-haag-nl/
LOCATION:Nieuwe Kerk Den Haag\, Spui 175\, Den Haag\, Zuid-Holland\, 2511BM\, Netherlands
END:VEVENT
BEGIN:VEVENT
DTSTART;TZID=UTC:20260425T120000
DTEND;TZID=UTC:20260425T233000
DTSTAMP:20260425T125318
CREATED:20260408T103628Z
LAST-MODIFIED:20260408T103628Z
UID:3113-1777118400-1777159800@francescajossa.com
SUMMARY:Organ marathon - Leuven (BE)
DESCRIPTION:Concert programme\n  \n12 hours of music and speakers for Peace. \nContribution as an organist in duo with Laurens de Man and with the SLAC Dance Department. \n  \nMore information: Contius Foundation
URL:https://francescajossa.com/event/organ-marathon-leuven-be/
LOCATION:Sint-Michielskerk\, Naamsestraat 57a\, Leuven\, Vlaams-Brabant\, 3000\, Belgium
END:VEVENT
BEGIN:VEVENT
DTSTART;TZID=UTC:20260509T201500
DTEND;TZID=UTC:20260509T211500
DTSTAMP:20260425T125318
CREATED:20260123T201407Z
LAST-MODIFIED:20260208T154035Z
UID:2871-1778357700-1778361300@francescajossa.com
SUMMARY:Organ concert - Lisse (NL)
DESCRIPTION:Concert programme\n  \n\nJohann Sebastian Bach (1685-1750)\nPräludium und Fuge h-Moll\, BWV 544 \n  \nAlexandre Pierre-François Boëly (1785-1858)\nChoral für Orgel „Bin ich gleich von dir gewichen“ \n  \nCésar Franck (1822-1890)\nDeuxième Choral \n  \nCharles Tournemire (1870-1939)\nUit “L’Orgue Mystique” n° 23\, “L’ Ascension”\n– Communio \n  \nMaurice Duruflé (1902-1986)\nPrélude\, Adagio et Choral varié sur le thème du ‘Veni Creator’\, Op 4 \n\n  \nMore information: Stichting Vrienden van het Adema-orgel
URL:https://francescajossa.com/event/organ-concert-lisse-nl/
LOCATION:Sint-Agathakerk\, Heereweg 275\, Lisse\, 2161 BH\, Netherlands
END:VEVENT
BEGIN:VEVENT
DTSTART;TZID=UTC:20260515T213000
DTEND;TZID=UTC:20260515T223000
DTSTAMP:20260425T125318
CREATED:20260329T170039Z
LAST-MODIFIED:20260408T083452Z
UID:3067-1778880600-1778884200@francescajossa.com
SUMMARY:Organ concert - Ericeira (PT)
DESCRIPTION:Concert programme\n  \n\n\nH. F. Micheelsen (1902-1973)\nPräludium in D\, op. 32 \n  \nJan Pieterszoon Sweelinck (1561-1621)\nRicercar del nono tono\, SwWV280 \n  \nAndries van Rossem (1957-)\nOneliner \n  \nAnonimo\nFrom the “Camphuysen” manuscript (ca.1652)\nDaphne (3 variaties) \n  \nHugo Distler (1908-1942)\nVariationen “Elselein\, liebstes Elselein” \n  \nJohann Sebastian Bach (1685-1750)\nFrom The Musical Offering BWV 1079: Ricercar a 3 \n  \nFranz Danksagmüller (1969-)\nEstampie \n  \nGeorg Muffat (1653-1704)\nToccata Septima (Apparatus musico-organisticus\, 1690)
URL:https://francescajossa.com/event/organ-concert-ericeira-pt/
LOCATION:Igreja de São Pedro\, Largo de São Pedro\, Ericeira\, 2655-363
END:VEVENT
BEGIN:VEVENT
DTSTART;TZID=UTC:20260520T200000
DTEND;TZID=UTC:20260520T210000
DTSTAMP:20260425T125318
CREATED:20260123T202409Z
LAST-MODIFIED:20260408T083510Z
UID:2876-1779307200-1779310800@francescajossa.com
SUMMARY:Organ concert - Velp (NL)
DESCRIPTION:Concert programme\n  \n\nJan Pieterszoon Sweelinck (1561-1621)\nRicercar del nono tono\, SwWV 280 \n  \nHeinrich Scheidemann (1595-1663)\nConfitemini domino\n– Prima pars\n– Secunda pars \n  \nJohann Sebastian Bach (1685-1750)\nSonata no. 3\, d-moll BWV 527\n– Andante\n– Adagio e dolce\n– Vivace \n  \nCarl Philipp Emanuel Bach (1714-1788)\nFantasia und Fuge c-Moll\, Wq 119/7 \n  \nWolfgang Amadeus Mozart (1756-1791)\nFantasie F-moll\, KV 608 \n\n  \nMore information: Stichting Muziek en Orgelcultuur Grote Kerk Velp
URL:https://francescajossa.com/event/organ-concert-velp-nl/
LOCATION:Grote Kerk Velp\, Kerkstraat 32\, Velp\, 6883 HT\, Netherlands
END:VEVENT
BEGIN:VEVENT
DTSTART;TZID=UTC:20260528T200000
DTEND;TZID=UTC:20260528T210000
DTSTAMP:20260425T125318
CREATED:20260123T202747Z
LAST-MODIFIED:20260408T083526Z
UID:2880-1779998400-1780002000@francescajossa.com
SUMMARY:Organ concert - Epe (NL)
DESCRIPTION:Concert programme\n  \n\nJean-Philippe Rameau (1683-1764)\nUit “Les Indes Galantes” (transcr. Y. Rechsteiner)\n– Ouverture\n– Menuet-Trio\n– Tambourins\n– Dance des sauvages \n  \nAnonimo\nUit het “Camphuysen” manuscript (ca.1652)\n– Daphne (3 variaties) \n  \nJohann Sebastian Bach (1685-1750)\nSuite in c klein\, BWV 997 (transcr. R. Smits)\n– Prelude\n– Fuga\n– Sarabande\n– Gigue\n– Double \n  \nLouis Vierne (1870-1937)\nUit 24 Pièces de fantaisie\n– Naïades \n  \nAnton Heiller (1923-1979)\nChoralvorspiele zu Lieder des Dänischen Gesangbuchs:\n– Rind nu op i Jesu havn\n– Sorrig og glaede \nTanz-toccata \n\n  \nMore information: Stichting tot behoud van het Meere-orgel Grote Kerk Epe
URL:https://francescajossa.com/event/organ-concert-epe-nl-2/
LOCATION:Grote Kerk Epe\, Beekstraat 1A\, Epe\, Gelderland\, 8162HA\, Netherlands
END:VEVENT
BEGIN:VEVENT
DTSTART;TZID=UTC:20260606T163000
DTEND;TZID=UTC:20260606T173000
DTSTAMP:20260425T125318
CREATED:20260123T204233Z
LAST-MODIFIED:20260408T083558Z
UID:2883-1780763400-1780767000@francescajossa.com
SUMMARY:Organ concert - Amstelveen (NL)
DESCRIPTION:Concert programme\n  \nJean-Philippe Rameau (1683-1764)\nUit “Les Indes Galantes” (transcr. Y. Rechsteiner)\n– Ouverture\n– Menuet-Trio\n– Tambourins\n– Dance des sauvages \n  \nAnonimo\nUit het “Camphuysen” manuscript (ca.1652)\n– Daphne (3 variaties) \n  \nJohann Sebastian Bach (1685-1750)\nSuite in c klein\, BWV 997 (transcr. R. Smits)\n– Prelude\n– Fuga\n– Sarabande\n– Gigue\n– Double \n  \nLouis Vierne (1870-1937)\nUit 24 Pièces de fantaisie\n– Naïades \n  \nAnton Heiller (1923-1979)\nChoralvorspiele zu Lieder des Dänischen Gesangbuchs:\n– Rind nu op i Jesu havn\n– Sorrig og glaede \nTanz-toccata \n  \nMore information: Muziekcommissie Kruiskerk
URL:https://francescajossa.com/event/organ-concert-amstelveen-nl/
LOCATION:Kruiskerk\, Van der Veerelaan 30A\, Amstelveen\, 1181 RB\, Netherlands
END:VEVENT
BEGIN:VEVENT
DTSTART;TZID=UTC:20260619T200000
DTEND;TZID=UTC:20260619T210000
DTSTAMP:20260425T125318
CREATED:20260123T205845Z
LAST-MODIFIED:20260408T083619Z
UID:2897-1781899200-1781902800@francescajossa.com
SUMMARY:Organ concert - Hulst (NL)
DESCRIPTION:Concert programme\n  \n\nNicolas De Grigny (1672-1703)\nAve Maris Stella\n– En taille a 5\n– Fugue a 5\n– Duo\n– Dialogue sur les Grands Jeux \n  \nAnonimo\nUit het “Camphuysen” manuscript (ca.1652)\n– Daphne (3 variaties) \n  \nJohann Sebastian Bach (1685-1750)\nSonata no. 3\, d-moll BWV 527\n– Andante\n– Adagio e dolce\n– Vivace \n  \nLouis Vierne (1870-1937)\nUit 24 Pièces de fantaisie\n– Naïades \n  \nJean Langlais (1907-1991)\nSuite médiévale en forme de messe basse\n– Prelude (entrée)\n– Tiento (offertoire)\n– Improvisation ( elévation)\n– Meditation (communion)\n– Acclamations (sur le texte des acclamations carolingiennes) \n\n  \nMore information: Stichting Internationale Zomer-orgelconcerten Hulst
URL:https://francescajossa.com/event/organ-concert-hulst-nl/
LOCATION:Sint-Willibrordusbasiliek\, Steenstraat 2\, Hulst\, 4561 AS\, Netherlands
END:VEVENT
BEGIN:VEVENT
DTSTART;TZID=UTC:20260702T200000
DTEND;TZID=UTC:20260702T210000
DTSTAMP:20260425T125318
CREATED:20260123T210336Z
LAST-MODIFIED:20260408T083649Z
UID:2901-1783022400-1783026000@francescajossa.com
SUMMARY:Organ concert - Kampen (NL)
DESCRIPTION:Concert programme\n  \n\nKoororgel \nDietrich Buxtehude (1637-1707)\nToccata d-moll\, BuxWV 155 \nWie schön leuchtet der Morgenstern\, BuxWV 223 \n  \nHoofdorgel \nNicolas De Grigny (1672-1703)\nAve Maris Stella\n– En taille a 5\n– Fugue a 5\n– Duo\n– Dialogue sur les Grands Jeux \n  \nOlivier Messiaen (1908-1992)\nLe Banquet Céleste \n  \nMax Reger (1873-1916)\nPhantasie über den Choral „Wie schön leucht’ uns der Morgenstern“ op. 40 Nr. 1 \n  \n\n  \nMore information: Orgelstad Kampen
URL:https://francescajossa.com/event/organ-concert-kampen-nl-2/
LOCATION:Bovenkerk\, Koornmarkt 28\, Kampen\, Overijssel\, 8261JX\, Netherlands
END:VEVENT
BEGIN:VEVENT
DTSTART;TZID=UTC:20260718T200000
DTEND;TZID=UTC:20260718T210000
DTSTAMP:20260425T125318
CREATED:20260123T211748Z
LAST-MODIFIED:20260408T083727Z
UID:2903-1784404800-1784408400@francescajossa.com
SUMMARY:Organ concert - Maassluis (NL)
DESCRIPTION:Concert programme\n\n  \nDietrich Buxtehude (1637-1707)\nToccata d-moll\, BuxWV 155 \nWie schön leuchtet der Morgenstern\, BuxWV 223 \n  \nNicolas De Grigny (1672-1703)\nAve Maris Stella\n– En taille a 5\n– Fugue a 5\n– Duo\n– Dialogue sur les Grands Jeux \n  \nOlivier Messiaen (1908-1992)\nLe Banquet Céleste \n  \nMax Reger (1873-1916)\nPhantasie über den Choral „Wie schön leucht’ uns der Morgenstern“ op. 40 Nr. 1 \n\n  \nMore information: Stichting Garrels-orgel Maassluis
URL:https://francescajossa.com/event/organ-concert-maassluis-nl/
LOCATION:Groote Kerk\, Kerkplein 2\, Maassluis\, 3144 EK
END:VEVENT
BEGIN:VEVENT
DTSTART;TZID=UTC:20260722T200000
DTEND;TZID=UTC:20260722T210000
DTSTAMP:20260425T125318
CREATED:20260123T213240Z
LAST-MODIFIED:20260408T083747Z
UID:2908-1784750400-1784754000@francescajossa.com
SUMMARY:Organ concert - Groningen (NL)
DESCRIPTION:Concert programme\n  \n\nDietrich Buxtehude (1637-1707)\nToccata d-moll\, BuxWV155\nAch Gott und Herr\, BuxWV 177 \n  \nJohann Sebastian Bach (1685-1750)\nTriosonate IV\, BWV 528\n– Adagio / Vivace\n– Andante\n– Un poco allegro \n  \nWolfgang Amadeus Mozart (1756-1791)\nFantasie F-moll\, KV 608 \n  \nJohann Sebastian Bach\nFrom the Suite in c-moll\, BWV 997 (transcr. R. Smits):\n– Prelude\n– Sarabande\n– Gigue \n  \nAnton Heiller (1923-1979) \nChoralvorspiele zu Lieder des Dänischen Gesangbuchs:\n– Sorrig og glaede \nTanz-toccata \n\n  \nMore information: Stichting Avondtmuszyk Martinikerk Groningen 
URL:https://francescajossa.com/event/organ-concert-groningen-nl/
LOCATION:Martinikerk\, Martinikerkhof 3\, Groningen\, 9712 JG\, Netherlands
END:VEVENT
BEGIN:VEVENT
DTSTART;TZID=UTC:20260723T200000
DTEND;TZID=UTC:20260723T210000
DTSTAMP:20260425T125318
CREATED:20260124T203829Z
LAST-MODIFIED:20260408T083807Z
UID:2911-1784836800-1784840400@francescajossa.com
SUMMARY:Organ concert - Gorinchem (NL)
DESCRIPTION:Concert programme\n  \n\nGirolamo Frescobaldi (1583-1643)\nDai “Fiori Musicali”\, Messa della Madonna\n– Toccata avanti la Messa\n– Kyrie – Christe – Kyrie \n  \nHeinrich Scheidemann (1595-1663)\nConfitemini domino\n– Prima pars\n– Secunda pars \n  \nGirolamo Frescobaldi (1583-1643)\nDai “Fiori Musicali”\, Messa della Madonna\n– Canzon dopo l’Epistola\n– Ricercar Dopo il Credo \n  \nNicolas De Grigny (1672-1703) \nAve Maris Stella\n– En taille a 5\n– Fugue a 5\n– Duo\n– Dialogue sur les Grands Jeux \n  \nGirolamo Frescobaldi (1583-1643)\nDai “Fiori Musicali”\, Messa della Madonna\n– Toccata per l’elevatione\n– Bergamasca \n  \nJean Langlais (1907-1991)\nSuite médiévale en forme de messe basse\n– Prelude (entrée)\n– Tiento (offertoire)\n– Improvisation ( elévation)\n– Meditation (communion)\n– Acclamations (sur le texte des acclamations carolingiennes) \n\n  \nMore information: Gorinchem Orgelstad 
URL:https://francescajossa.com/event/organ-concert-gorinchem-nl-2/
LOCATION:Grote Kerk Gorinchem\, Groenmarkt 7\, Gorinchem\, Zuid-Holland\, 4102GB\, Netherlands
END:VEVENT
BEGIN:VEVENT
DTSTART;TZID=UTC:20260728T200000
DTEND;TZID=UTC:20260728T210000
DTSTAMP:20260425T125318
CREATED:20260203T214916Z
LAST-MODIFIED:20260408T083830Z
UID:2947-1785268800-1785272400@francescajossa.com
SUMMARY:Organ concert - Maastricht (NL)
DESCRIPTION:Concert programme\n  \n\nNicolas De Grigny (1672-1703)\nAve Maris Stella\n– En taille a 5\n– Fugue a 5\n– Duo\n– Dialogue sur les Grands Jeux \n  \nAnonimo\nUit het “Camphuysen” manuscript (ca.1652)\n– Daphne (3 variaties) \n  \nJohann Sebastian Bach (1685-1750)\nSonata no. 3\, d-moll BWV 527\n– Andante\n– Adagio e dolce\n– Vivace \n  \nLouis Vierne (1870-1937)\nUit 24 Pièces de fantaisie\n– Naïades \n  \nJean Langlais (1907-1991)\nSuite médiévale en forme de messe basse\n– Prelude (entrée)\n– Tiento (offertoire)\n– Improvisation ( elévation)\n– Meditation (communion)\n– Acclamations (sur le texte des acclamations carolingiennes) \n\n  \nMore information: Stichting Pro Organo
URL:https://francescajossa.com/event/organ-concert-maastricht-nl-2/
LOCATION:Onze-Lieve-Vrouwebasiliek\, Onze Lieve Vrouweplein 7\, Maastricht\, 6211 HD\, Netherlands
END:VEVENT
BEGIN:VEVENT
DTSTART;TZID=UTC:20260729T201500
DTEND;TZID=UTC:20260729T213000
DTSTAMP:20260425T125318
CREATED:20260306T193417Z
LAST-MODIFIED:20260306T193503Z
UID:3030-1785356100-1785360600@francescajossa.com
SUMMARY:Organ concert - Alkmaar (NL)
DESCRIPTION:Concert programme\n  \n\n‘Echoes through time’ \n– Choir organ – \nGirolamo Frescobaldi (1583-1643)\nToccata Terza\, dal primo libro di toccate \n  \nJan Pieterszoon Sweelinck (1561-1621)\nRicercar del nono tono\, SwWV280 \n  \n– Main organ – \nJohann Sebastian Bach (1685-1750)\nTriosonate IV\, BWV 528\nAdagio / Vivace\nAndante\nUn poco allegro \n  \nGyörgy Ligeti (1923-2006)\nRicercare (omaggio a Frescobaldi) \n  \nAnton Heiller (1923-1979)\nTanz-toccata \n\n  \nBreak \nPart 2: Stefan Engels \n  \nMore information: Organ Festival Haarlem
URL:https://francescajossa.com/event/organ-concert-alkmaar-nl-2/
LOCATION:Grote of Sint-Laurenskerk Alkmaar\, Koorstraat 2\, Alkmaar\, Noord-Holland\, 1811GP\, Netherlands
END:VEVENT
BEGIN:VEVENT
DTSTART;TZID=UTC:20260804T201500
DTEND;TZID=UTC:20260804T213000
DTSTAMP:20260425T125318
CREATED:20260404T181915Z
LAST-MODIFIED:20260408T083945Z
UID:3085-1785874500-1785879000@francescajossa.com
SUMMARY:Organ concert - Katwijk (NL)
DESCRIPTION:Concert programme\n  \n\nDietrich Buxtehude (1637-1707)\nToccata d-moll\, BuxWV155 \n  \nJohann Sebastian Bach (1685-1750)\nSonata no. 3\, d-moll BWV 527\n– Andante\n– Adagio e dolce\n– Vivace \n  \nCarl Philipp Emanuel Bach (1714-1788)\nFantasia und Fuge c-Moll\, Wq 119/7 \n  \nWolfgang Amadeus Mozart (1756-1791)\nFantasie F-moll\, KV 608 \n  \nOttorino Respighi (1879-1936)\nPräludium a-Moll nach einem Choralsatz von Johann Sebastian Bach\n(„Ich hab’ mein Sach’ Gott heimgestellt“ BWV 351) \n  \nCharles Hubert Hastings Parry (1848-1918)\nChorale Fantasia on the Old Hundredth \n  \n\nMore information: Bätzorgel Vredeskerk Katwijk
URL:https://francescajossa.com/event/organ-concert-katwijk-nl/
LOCATION:Vredeskerk Katwijk\, Baljuwplein 1\, Katwijk aan Zee\, 2225 BR\, Netherlands
END:VEVENT
BEGIN:VEVENT
DTSTART;TZID=UTC:20260805T200000
DTEND;TZID=UTC:20260805T210000
DTSTAMP:20260425T125318
CREATED:20260404T181236Z
LAST-MODIFIED:20260408T084042Z
UID:3082-1785960000-1785963600@francescajossa.com
SUMMARY:Organ concert - Ede (NL)
DESCRIPTION:Concert programme\n  \n\nJohan Sebastian Bach (1685-1750)\nFantasie en fuga in g\, BWV 542\nAch bleib bei uns\, Herr Jesu Christ BWV 649 \n  \nCarl Philipp Emanuel Bach (1714-1788)\nFantasia und Fuge c-Moll\, Wq 119/7 \n  \nGottfried August Homilius (1714-1785)\nUit 32 Praeludia zu geistlichen Liedern für zwei Claviere und Pedal:\n– Schmücke dich\, o liebe Seele\, HoWV VIII.17\n– Herzlich lieb hab ich dich\, o Herre\, HoWV VIII.12 \n  \nWolfgang Amadeus Mozart (1756-1791)\nFantasie F-moll\, KV 608 \n  \nOttorino Respighi (1879-1936)\nPräludium a-Moll nach einem Choralsatz von Johann Sebastian Bach\n(„Ich hab’ mein Sach’ Gott heimgestellt“ BWV 351) \n  \nCharles Hubert Hastings Parry (1848-1918)\nChorale Fantasia on the Old Hundredth \n\n  \nMore information: Orgel Hervormd Ede
URL:https://francescajossa.com/event/organ-concert-ede-nl/
LOCATION:Oude Kerk Ede\, Grotestraat 58\, Ede\, 6711 AN\, Netherlands
END:VEVENT
BEGIN:VEVENT
DTSTART;TZID=UTC:20260809T173000
DTEND;TZID=UTC:20260809T183000
DTSTAMP:20260425T125318
CREATED:20260212T074701Z
LAST-MODIFIED:20260408T084109Z
UID:2973-1786296600-1786300200@francescajossa.com
SUMMARY:Organ concert - Annecy (FR)
DESCRIPTION:Concert programme\n  \n\nGirolamo Frescobaldi (1583-1643)\nDai “Fiori Musicali”\, Messa della Madonna\n– Toccata avanti la Messa\n– Kyrie – Christe – Kyrie \n  \nHeinrich Scheidemann (1595-1663)\nConfitemini domino\n– Prima pars\n– Secunda pars \n  \nGirolamo Frescobaldi (1583-1643)\nDai “Fiori Musicali”\, Messa della Madonna\n– Canzon dopo l’Epistola\n– Ricercar Dopo il Credo \n  \nNicolas De Grigny (1672-1703) \nAve Maris Stella\n– En taille a 5\n– Fugue a 5\n– Duo\n– Dialogue sur les Grands Jeux \n  \nGirolamo Frescobaldi (1583-1643)\nDai “Fiori Musicali”\, Messa della Madonna\n– Toccata per l’elevatione\n– Bergamasca \n  \nMaurice Duruflé (1902-1986)\nPrélude\, Adagio et Choral varié sur le thème du ‘Veni Creator’\, Op 4 \n\n  \nMore information: Orgue Cathédrale Annecy 
URL:https://francescajossa.com/event/organ-concert-annecy-fr/
LOCATION:Cathédrale Saint-Pierre\, 8 Rue Jean-Jacques Rousseau\, Annecy\, 74000\, France
END:VEVENT
BEGIN:VEVENT
DTSTART;TZID=UTC:20260811T200000
DTEND;TZID=UTC:20260811T210000
DTSTAMP:20260425T125318
CREATED:20260212T074157Z
LAST-MODIFIED:20260408T084148Z
UID:2969-1786478400-1786482000@francescajossa.com
SUMMARY:Organ concert - Schiedam (NL)
DESCRIPTION:Concert programme\n  \n\nGirolamo Frescobaldi (1583-1643)\nDai “Fiori Musicali”\, Messa della Madonna\n– Toccata avanti la Messa\n– Kyrie – Christe – Kyrie \n  \nHeinrich Scheidemann (1595-1663)\nConfitemini domino\n– Prima pars\n– Secunda pars \n  \nGirolamo Frescobaldi (1583-1643)\nDai “Fiori Musicali”\, Messa della Madonna\n– Canzon dopo l’Epistola\n– Ricercar Dopo il Credo \n  \nNicolas De Grigny (1672-1703) \nAve Maris Stella\n– En taille a 5\n– Fugue a 5\n– Duo\n– Dialogue sur les Grands Jeux \n  \nGirolamo Frescobaldi (1583-1643)\nDai “Fiori Musicali”\, Messa della Madonna\n– Toccata per l’elevatione\n– Bergamasca \n  \nMaurice Duruflé (1902-1986)\nPrélude\, Adagio et Choral varié sur le thème du ‘Veni Creator’\, Op 4 \n\n  \nMore information: Muziek Grote Kerk Schiedam
URL:https://francescajossa.com/event/organ-concert-schiedam-nl/
LOCATION:Grote- of Sint Janskerk\, Lange Kerkstraat 37\, Schiedam\, Zuid-Holland\, 3111NN\, Netherlands
END:VEVENT
END:VCALENDAR