BEGIN:VCALENDAR
VERSION:2.0
PRODID:-//Francesca Ajossa - ECPv6.13.2.1//NONSGML v1.0//EN
CALSCALE:GREGORIAN
METHOD:PUBLISH
X-WR-CALNAME:Francesca Ajossa
X-ORIGINAL-URL:https://francescajossa.com
X-WR-CALDESC:Events for Francesca Ajossa
REFRESH-INTERVAL;VALUE=DURATION:PT1H
X-Robots-Tag:noindex
X-PUBLISHED-TTL:PT1H
BEGIN:VTIMEZONE
TZID:UTC
BEGIN:STANDARD
TZOFFSETFROM:+0000
TZOFFSETTO:+0000
TZNAME:UTC
DTSTART:20240101T000000
END:STANDARD
END:VTIMEZONE
BEGIN:VEVENT
DTSTART;TZID=UTC:20240504T200000
DTEND;TZID=UTC:20240504T210000
DTSTAMP:20260425T225630
CREATED:20240121T220503Z
LAST-MODIFIED:20240205T163412Z
UID:1446-1714852800-1714856400@francescajossa.com
SUMMARY:Organ concert - Lugano (CH)
DESCRIPTION:Concert programme\nOttorino Respighi (1879-1936)\n– Preludio in re minore\n– Preludio in la minore sopra un corale di Bach “Ich hab mein Sach Gott heimgestellt” \n  \nMarco Enrico Bossi (1861-1925)\n– Rédemption\, op. 104 no. 5 \n– Chant du Soir\, op. 92 no. 1\n– Scherzo op. 49 no. 2 \n  \nJehan Alain (1911-1940)\nTrois Pièces\n– Variations sur un thème de Clément Janequin\, JA 118\n– Le jardin suspendu\, JA 71\n– Litanies\, JA 119 \n  \nMaurice Duruflé (1902-1986)\nPrélude et Fugue sur le nom d’Alain\, op. 7
URL:https://francescajossa.com/event/organ-concert-lugano-ch/
LOCATION:Cattedrale di S. Lorenzo\, Via Borghetto 1\, Lugano\, 6900\, Switzerland
END:VEVENT
BEGIN:VEVENT
DTSTART;TZID=UTC:20240521T203000
DTEND;TZID=UTC:20240521T223000
DTSTAMP:20260425T225630
CREATED:20231222T194928Z
LAST-MODIFIED:20240520T194716Z
UID:1141-1716323400-1716330600@francescajossa.com
SUMMARY:Organ concert - Leuven (BE)
DESCRIPTION:Concert programme\n  \nJohann Sebastian Bach (1685-1750) \nBWV943 – Praeludium in C groot \nBWV1112 – Christus\, der ist mein Leben \nBWV766 – Partite diverse sopra: Christ\, der du bist \nBWV629 – Erschienen ist der herrliche Tag \nBWV630 – Heut’ triumphieret Gottes Sohn \nBWV631 – Komm Gott Schöpfer\, Heiliger Geist \nBWV539 – Praeludium & Fuga D moll \nBreak \nBWV745 – Aus der tiefe rufe ich \nBWV747 – Christus\, der uns selig macht \nBWV662 – Allein Gott in der Höh sei Ehr \nBWV548 – Praeludium E moll \nBWV805 – Duet in A moll \nBWV548 – Fuga E moll \n  \nMore information: Contius Foundation
URL:https://francescajossa.com/event/organ-concert-leuven-be-2/
LOCATION:Sint-Michielskerk\, Naamsestraat 57a\, Leuven\, Vlaams-Brabant\, 3000\, Belgium
END:VEVENT
BEGIN:VEVENT
DTSTART;TZID=UTC:20240530T121500
DTEND;TZID=UTC:20240530T124500
DTSTAMP:20260425T225630
CREATED:20240125T161840Z
LAST-MODIFIED:20240311T205046Z
UID:1450-1717071300-1717073100@francescajossa.com
SUMMARY:Organ concert - Leuven (BE)
DESCRIPTION:Concert programme\nJohann Sebastian Bach (1685-1750)\nPassacaglia C-moll\, BWV 582 \n  \nJehan Alain (1911-1940)\nfrom Trois Pièces:\n– Variations sur un thème de Clément Janequin\, JA 118 \n  \nHugo Distler (1908-1942)\nOrgan Sonata\, op. 18 n. 2\n1. Rasche\, energische Halbe\n2. Einleitung – Sehr erregte Achtel\, dabei frei im Zeitmaß\n3. Recht geschwinde Achtel \n  \n  \nMore information: Contius Foundation
URL:https://francescajossa.com/event/organ-concert-leuven-be-3/
LOCATION:Sint-Michielskerk\, Naamsestraat 57a\, Leuven\, Vlaams-Brabant\, 3000\, Belgium
END:VEVENT
END:VCALENDAR