BEGIN:VCALENDAR
VERSION:2.0
PRODID:-//Francesca Ajossa - ECPv6.13.2.1//NONSGML v1.0//EN
CALSCALE:GREGORIAN
METHOD:PUBLISH
X-WR-CALNAME:Francesca Ajossa
X-ORIGINAL-URL:https://francescajossa.com
X-WR-CALDESC:Events for Francesca Ajossa
REFRESH-INTERVAL;VALUE=DURATION:PT1H
X-Robots-Tag:noindex
X-PUBLISHED-TTL:PT1H
BEGIN:VTIMEZONE
TZID:UTC
BEGIN:STANDARD
TZOFFSETFROM:+0000
TZOFFSETTO:+0000
TZNAME:UTC
DTSTART:20240101T000000
END:STANDARD
END:VTIMEZONE
BEGIN:VEVENT
DTSTART;TZID=UTC:20240709T124500
DTEND;TZID=UTC:20240709T133000
DTSTAMP:20260425T201733
CREATED:20240403T173510Z
LAST-MODIFIED:20240428T173852Z
UID:1576-1720529100-1720531800@francescajossa.com
SUMMARY:Organ concert - Rotterdam (NL)
DESCRIPTION:Concert programme\nJohann Sebastian Bach (1685-1750)\nPraeludium E moll\, BWV548\nDuet in A mol\, BWV805\nFuge E moll\, BWV548 \n  \nPaul Hindemith (1895-1963)\nSonate 2 für Orgel\n1. Lebhaft\n2. Ruhig bewegt\n3. Fuge. Mäßig bewegt\, Heiter \n  \nJaques van Oortmerssen (1950-2015)\n„Nun ruhen alle Wälder“\, uit ‘Five Choral Preludes’\nRondeau Reconstructie \n  \nMore information: Laurenskerk
URL:https://francescajossa.com/event/organ-concert-rotterdam-nl/
LOCATION:Laurenskerk\, Rotterdam\, Netherlands
END:VEVENT
BEGIN:VEVENT
DTSTART;TZID=UTC:20240719T200000
DTEND;TZID=UTC:20240719T210000
DTSTAMP:20260425T201733
CREATED:20240311T205859Z
LAST-MODIFIED:20240623T185818Z
UID:1543-1721419200-1721422800@francescajossa.com
SUMMARY:Organ concert - Bergamo (IT)
DESCRIPTION:Concert programme\nJohann Sebastian Bach (1685-1750)\nPraeludium Es-dur\, BWV552 \n  \nAndries van Rossem (1957)\nOneliner \n  \nHeinrich Scheidemann (1595-1663)\nPavana Lachrimae\, WV106 \n  \nHugo Distler (1908-1942)\nUit 30 Spielstücke op. 18 No.1: 18-24 Variationen “Elselein\, liebstes Elselein” \n  \nLuca Salvadori (1958)\nIn cammino verso la Porta d’Oro \n  \nHeinrich Scheidemann (1595-1663)\nGalliarda in d\, WV107 \n  \nJacques van Oortmerssen (1950-2015)\n„Nun ruhen alle Wälder“ \n  \nAugust Gottfried Ritter (1811-1885)\nOrgelsonate nr.3 a-moll\, Op. 23
URL:https://francescajossa.com/event/organ-concert-bergamo-it/
LOCATION:Chiesa di Sant’Anna\, Via Borgo Palazzo 49\, Bergamo\, Lombardia\, 24121\, Italy
END:VEVENT
BEGIN:VEVENT
DTSTART;TZID=UTC:20240726T201500
DTEND;TZID=UTC:20240726T213000
DTSTAMP:20260425T201733
CREATED:20240116T201653Z
LAST-MODIFIED:20240702T165730Z
UID:1400-1722024900-1722029400@francescajossa.com
SUMMARY:Organ concert - Culemborg (NL)
DESCRIPTION:Concert programme\n-Verhofstadt organ- \nJohann Sebastian Bach (1685-1750)\nPraeludium E moll\, BWV548\n„Vater unser im Himmelreich“\, BWV682\nFuge E moll\, BWV548 \n  \n-Wiegleb organ- \nGirolamo Frescobaldi (1583-1643)\nToccata Terza\, dal primo libro di toccate \n  \nHugo Distler (1908-1942)\nUit 30 Spielstücke op. 18 No.1: 18-24 Variationen “Elselein\, liebstes Elselein” \n  \nHeinrich Scheidemann (1595-1663)\nPavana Lachrimae\, WV106\nGalliarda in d\, WV107 \n  \n-Verhofstadt organ- \nAugust Gottfried Ritter (1811-1885)\nOrgelsonate nr.3 a-moll\, Op. 23 \n  \nMore information: Muziek in de Grote of Barbarakerk
URL:https://francescajossa.com/event/organ-concert-culemborg-nl/
LOCATION:Grote Kerk Culemborg\, Grote Kerkstraat 4\, Culemborg\, Gelderland\, 4101CB\, Netherlands
END:VEVENT
END:VCALENDAR