BEGIN:VCALENDAR
VERSION:2.0
PRODID:-//Francesca Ajossa - ECPv6.13.2.1//NONSGML v1.0//EN
CALSCALE:GREGORIAN
METHOD:PUBLISH
X-WR-CALNAME:Francesca Ajossa
X-ORIGINAL-URL:https://francescajossa.com
X-WR-CALDESC:Events for Francesca Ajossa
REFRESH-INTERVAL;VALUE=DURATION:PT1H
X-Robots-Tag:noindex
X-PUBLISHED-TTL:PT1H
BEGIN:VTIMEZONE
TZID:UTC
BEGIN:STANDARD
TZOFFSETFROM:+0000
TZOFFSETTO:+0000
TZNAME:UTC
DTSTART:20240101T000000
END:STANDARD
END:VTIMEZONE
BEGIN:VEVENT
DTSTART;TZID=UTC:20240803T200000
DTEND;TZID=UTC:20240803T210000
DTSTAMP:20260425T183844
CREATED:20231222T155155Z
LAST-MODIFIED:20240122T215522Z
UID:1096-1722715200-1722718800@francescajossa.com
SUMMARY:Organ concert - Putten (NL)
DESCRIPTION:Concert programme\nJohann Sebastian Bach (1685-1750)\nPraeludium E moll\, BWV548\n„Vater unser im Himmelreich“\, BWV682\nFuge E moll\, BWV548 \n  \nAnthon van der Horst (1899-1965)\nPartite Diverse Sopra ”Nostre Dieu\, et Seigneur Amiable” (Pseaume 8) \n  \nCor Kint (1890-1944)\nUit werken voor orgel deel II: Prélude Pastoral \n  \nAugust Gottfried Ritter (1811-1885)\nOrgelsonate nr.3 a-moll\, Op. 23 \n  \nMore information: HHG Putten
URL:https://francescajossa.com/event/organ-concert-putten-nl/
LOCATION:HHK\, Henslare 2\, Putten\, Gelderland\, 3882PK\, Netherlands
END:VEVENT
BEGIN:VEVENT
DTSTART;TZID=UTC:20240808T200000
DTEND;TZID=UTC:20240808T210000
DTSTAMP:20260425T183844
CREATED:20231222T160312Z
LAST-MODIFIED:20240121T070027Z
UID:1104-1723147200-1723150800@francescajossa.com
SUMMARY:Organ concert - Rhenen (NL)
DESCRIPTION:Concert programme\nJohann Sebastian Bach (1685-1750)\nPraeludium h-moll\, BWV 544 \n  \nJohann Sebastian Bach / Max Reger (1873-1916)\nInventio 15\, h-moll\, BWV 786\, Allegro non troppo \n  \nJohann Sebastian Bach\nFuge h-moll\, BWV 544 \n  \nAlexandre Pierre-François Boëly (1785-1858)\n“Bin Ich Gleich Von Dir Gewichen” \n  \nHugo Distler (1908-1942)\nOrgan Sonata\, op. 18 n. 2\n1. Rasche\, energische Halbe\n2. Einleitung – Sehr erregte Achtel\, dabei frei im Zeitmaß\n3. Recht geschwinde Achtel \n  \nMarcel Dupré (1886-1971)\nuit Le Tombeau de Titelouze\, Op.38:\n2. Jesu Redemptor Omnium\n5. Te Lucis Ante Terminum\n10. Pange Lingua \n  \nDeuxième symphonie\, op.26\n1. Preludio\n2. Intermezzo\n3. Toccata \n  \nMore information: Klassiek aan de Rijn
URL:https://francescajossa.com/event/organ-concert-rhenen-nl/
LOCATION:Cunerakerk\, Kerkplein\, Rhenen\, Utrecht\, 3911LE\, Netherlands
END:VEVENT
BEGIN:VEVENT
DTSTART;TZID=UTC:20240809T200000
DTEND;TZID=UTC:20240809T213000
DTSTAMP:20260425T183844
CREATED:20240215T172243Z
LAST-MODIFIED:20240429T203008Z
UID:1518-1723233600-1723239000@francescajossa.com
SUMMARY:Organ concert - Roden (NL)
DESCRIPTION:Concert programme\nGirolamo Frescobaldi (1583-1643)\nToccata Terza\, dal primo libro di toccate\nBergamasca \n  \nHeinrich Scheidemann (1595-1663)\nPavana Lachrimae\, WV106\nGalliarda in d\, WV107 \n  \nVincent Lübeck (1654-1740)\nChaconne A-dur\, LübWV20\nPräludium E-dur\, LübWV7 \n  \nBreak \n  \nDietrich Buxtehude (1637-1707)\nPraeludium g-moll\, BuxWV 163 \n  \nJohann Sebastian Bach (1685-1750)\n”Sei gegrüßet\, Jesu gütig”\, BWV 768\nPraeludium & Fuga D moll\, BWV 539 \n  \n  \n  \nMore information: Stichting tot behoud van het Hinsz-orgel te Roden \n 
URL:https://francescajossa.com/event/organ-concert-roden-nl/
LOCATION:Catharinakerk\, Brink 8\, Roden\, Groningen\, 9301JL\, Netherlands
END:VEVENT
BEGIN:VEVENT
DTSTART;TZID=UTC:20240814T200000
DTEND;TZID=UTC:20240814T210000
DTSTAMP:20260425T183844
CREATED:20240403T174803Z
LAST-MODIFIED:20240626T164041Z
UID:1590-1723665600-1723669200@francescajossa.com
SUMMARY:Organ concert - Leeuwarden (NL)
DESCRIPTION:Concert programme\nMatthias Weckmann (1621-1674)  \nMagnificat II toni \n  \nJohann Sebastian Bach (1685-1750) \nConcerto in A-moll BWV 593 \nAllegro\, Adagio\, Allegro \n  \nMax Reger (1873-1916)  \nBenedictus op.59 Nr. 9 \n  \nPaul Hindemith (1895-1963)\nSonate 2 für Orgel\n1. Lebhaft\n2. Ruhig bewegt\n3. Fuge. Mäßig bewegt\, Heiter \n  \nMarcel Dupré (1886-1971)\nDeuxième symphonie\, op.26\n1. Preludio\n2. Intermezzo\n3. Toccata \n  \nMore information: Stichting Orgelconcerten Grote Kerk Leeuwarden
URL:https://francescajossa.com/event/organ-concert-leeuwarden-nl/
LOCATION:Grote Kerk Leeuwarden\, Jacobijnerkerkhof 95\, Leeuwarden\, Friesland\, 8911EN\, Netherlands
END:VEVENT
BEGIN:VEVENT
DTSTART;TZID=UTC:20240818T153000
DTEND;TZID=UTC:20240818T163000
DTSTAMP:20260425T183844
CREATED:20231222T200403Z
LAST-MODIFIED:20240528T203952Z
UID:1146-1723995000-1723998600@francescajossa.com
SUMMARY:Organ concert - Soest (NL)
DESCRIPTION:Concert programme\nJohann Sebastian Bach (1685-1750) \nConcerto in A-moll BWV 593 \nAllegro\, Adagio\, Allegro \n  \nMatthias Weckmann (1621-1674)  \nMagnificat II toni \n  \nJohann Sebastian Bach \n”Sei gegrüßet\, Jesu gütig”\, BWV 768 \n  \nDietrich Buxtehude (1637-1707) \nPraeludium g-moll\, BuxWV 163 \n  \nJohann Sebastian Bach \nPraeludium & Fuga D moll\, BWV 539 \n  \nMore information: Stichting Kerk & Cultuur Oude Kerk Soest
URL:https://francescajossa.com/event/organ-concert-soest-nl/
LOCATION:Oude Kerk\, Kerkstraat 49\, Zwijndrecht\, Zuid-Holland\, 3331XL\, Netherlands
END:VEVENT
BEGIN:VEVENT
DTSTART;TZID=UTC:20240823T200000
DTEND;TZID=UTC:20240823T210000
DTSTAMP:20260425T183844
CREATED:20231222T154303Z
LAST-MODIFIED:20240214T152426Z
UID:1090-1724443200-1724446800@francescajossa.com
SUMMARY:Organ concert - Delft (NL)
DESCRIPTION:Concert programme\nJohann Sebastian Bach (1685-1750)\nPraeludium h-moll\, BWV 544 \n  \nJohann Sebastian Bach / Max Reger (1873-1916)\nInventio 15\, h-moll\, BWV 786\, Allegro non troppo \n  \nJohann Sebastian Bach\nFuge h-moll\, BWV 544 \n  \nAlexandre Pierre-François Boëly (1785-1858)\n“Bin Ich Gleich Von Dir Gewichen” \n  \nPaul Hindemith (1895-1963)\nSonate 2 für Orgel\n1. Mäßig schnell\n2. Lebhaft\n3. Sehr langsam – Rondo. Bewegt \n  \nMarcel Dupré (1886-1971)\nuit Le Tombeau de Titelouze\, Op.38:\n2. Jesu Redemptor Omnium\n5. Te Lucis Ante Terminum\n10. Pange Lingua \n  \nDeuxième symphonie\, op.26\n1. Preludio\n2. Intermezzo\n3. Toccata \n  \nMore information: Stichting Kerkconcerten Delft
URL:https://francescajossa.com/event/organ-concert/
LOCATION:Nieuwe Kerk Delft\, Markt 80\, Delft\, Zuid-Holland\, 2611GW\, Netherlands
END:VEVENT
END:VCALENDAR