BEGIN:VCALENDAR
VERSION:2.0
PRODID:-//Francesca Ajossa - ECPv6.13.2.1//NONSGML v1.0//EN
CALSCALE:GREGORIAN
METHOD:PUBLISH
X-ORIGINAL-URL:https://francescajossa.com
X-WR-CALDESC:Events for Francesca Ajossa
REFRESH-INTERVAL;VALUE=DURATION:PT1H
X-Robots-Tag:noindex
X-PUBLISHED-TTL:PT1H
BEGIN:VTIMEZONE
TZID:UTC
BEGIN:STANDARD
TZOFFSETFROM:+0000
TZOFFSETTO:+0000
TZNAME:UTC
DTSTART:20240101T000000
END:STANDARD
END:VTIMEZONE
BEGIN:VEVENT
DTSTART;TZID=UTC:20240907T133000
DTEND;TZID=UTC:20240907T141500
DTSTAMP:20260425T171142
CREATED:20240829T152635Z
LAST-MODIFIED:20240829T152635Z
UID:1914-1725715800-1725718500@francescajossa.com
SUMMARY:Organ concert - Leiden (NL)
DESCRIPTION:Concert programme\nMatthias Weckmann (1621-1674)  \nMagnificat II toni \n  \nJacques van Oortmerssen (1950-2015)\n„Nun ruhen alle Wälder“ \n  \nDietrich Buxtehude (1637-1707) \nPraeludium g-moll\, BuxWV 163 \n  \nAndries van Rossem (1957)\nOneliner \n  \nJohann Sebastian Bach (1685-1750) \n”Sei gegrüßet\, Jesu gütig”\, BWV 768
URL:https://francescajossa.com/event/organ-concert-leiden-nl/
LOCATION:Hooglandse Kerk\, Nieuwstraat 20\, Leiden\, Zuid-Holland\, 2312KC\, Netherlands
END:VEVENT
BEGIN:VEVENT
DTSTART;TZID=UTC:20240912T121500
DTEND;TZID=UTC:20240912T124500
DTSTAMP:20260425T171142
CREATED:20240125T162658Z
LAST-MODIFIED:20240614T111132Z
UID:1454-1726143300-1726145100@francescajossa.com
SUMMARY:Organ concert - Leuven (BE)
DESCRIPTION:Concert programme\nJohann Sebastian Bach (1685-1750)\nPraeludium und Fuge h-moll\, BWV 544 \n  \nCor Kint (1890-1944)\nUit werken voor orgel deel II: Prélude Pastoral \n  \nJacques van Oortmerssen (1950-2015)\n„Nun ruhen alle Wälder“\, uit ‘Five Choral Preludes’\nRondeau Reconstructie \n  \n  \nMore information: Contius Foundation
URL:https://francescajossa.com/event/organ-concert-leuven-be-5/
LOCATION:Sint-Michielskerk\, Naamsestraat 57a\, Leuven\, Vlaams-Brabant\, 3000\, Belgium
END:VEVENT
BEGIN:VEVENT
DTSTART;TZID=UTC:20240914T120000
DTEND;TZID=UTC:20240914T170000
DTSTAMP:20260425T171142
CREATED:20240829T153733Z
LAST-MODIFIED:20240829T155717Z
UID:1919-1726315200-1726333200@francescajossa.com
SUMMARY:Organ marathon - Schiedam (NL)
DESCRIPTION:Opening concert of the organ marathon by Stichting Vox Humana\, organised in the Grote Kerk of Schiedam. \n\nConcert programme\nJohann Sebastian Bach (1685-1750) \nPassacaglia C-moll\, BWV582 \n  \nAlexandre Pierre-François Boëly (1785-1858)\n“Bin Ich Gleich Von Dir Gewichen” \n  \nCésar Franck (1822-1890) \nChoral No. 3 en la mineur\, FWV40 \n  \nAnton Heiller (1923-1979) \n“Sorrig og glæde” \nTanz-Toccata
URL:https://francescajossa.com/event/organ-marathon-schiedam-nl/
LOCATION:Grote- of Sint Janskerk\, Lange Kerkstraat 37\, Schiedam\, Zuid-Holland\, 3111NN\, Netherlands
END:VEVENT
BEGIN:VEVENT
DTSTART;TZID=UTC:20240921T150000
DTEND;TZID=UTC:20240921T160000
DTSTAMP:20260425T171142
CREATED:20231222T201551Z
LAST-MODIFIED:20240702T170042Z
UID:1149-1726930800-1726934400@francescajossa.com
SUMMARY:Organ & Harpsichord concert - Nootdorp (NL)
DESCRIPTION:Concert programme\n– organ- \nGirolamo Frescobaldi (1583-1643)\nToccata Terza\, dal primo libro di toccate\nBergamasca \n  \nHeinrich Scheidemann (1595-1663)\nPavana Lachrimae\, WV106\nGalliarda in d\, WV107 \n  \n– harpsichord- \nDietrich Buxtehude (1637-1707)\nPraeludium g-moll\, BuxWV 163 \n  \nJohann Sebastian Bach (1685-1750)\naus dem Wohltemperierten Klavier:\n– Präludium und Fuge F-Moll\, BWV 881\n– Präludium und Fuge As-Dur\, BWV 886 \n  \n– organ- \nCarl Philip Emmanuel Bach (1714-1788)\nSonate in F groot\, Wq70-3\nI. Allegro\nII. Largo\nIII. Allegretto \n  \nHans Friedrich Micheelsen (1902-1973)\nPräludium in D\, op. 32 \n  \nMore information: Noitdorpsche Historiën
URL:https://francescajossa.com/event/organ-concert-nootdorp-nl/
LOCATION:Dorpskerk\, Dorpsstraat 36\, Nootdorp\, Zuid-Holland\, 2631CT\, Netherlands
END:VEVENT
BEGIN:VEVENT
DTSTART;TZID=UTC:20240927T203000
DTEND;TZID=UTC:20240927T220000
DTSTAMP:20260425T171142
CREATED:20240205T122416Z
LAST-MODIFIED:20240205T122416Z
UID:1474-1727469000-1727474400@francescajossa.com
SUMMARY:Organ concert - Haarlem (NL)
DESCRIPTION:Concert programme\nContribution as organ player during the “Garden of Delight” performance. \n  \nMore information: Verhalenhuis
URL:https://francescajossa.com/event/organ-concert-haarlem-nl-2/
LOCATION:Verhalenhuis\, van Egmondstraat 7\, Haarlem\, Noord-Holland\, 2024XL\, Netherlands
END:VEVENT
END:VCALENDAR