BEGIN:VCALENDAR
VERSION:2.0
PRODID:-//Francesca Ajossa - ECPv6.13.2.1//NONSGML v1.0//EN
CALSCALE:GREGORIAN
METHOD:PUBLISH
X-ORIGINAL-URL:https://francescajossa.com
X-WR-CALDESC:Events for Francesca Ajossa
REFRESH-INTERVAL;VALUE=DURATION:PT1H
X-Robots-Tag:noindex
X-PUBLISHED-TTL:PT1H
BEGIN:VTIMEZONE
TZID:UTC
BEGIN:STANDARD
TZOFFSETFROM:+0000
TZOFFSETTO:+0000
TZNAME:UTC
DTSTART:20240101T000000
END:STANDARD
END:VTIMEZONE
BEGIN:VEVENT
DTSTART;TZID=UTC:20241005T200000
DTEND;TZID=UTC:20241005T210000
DTSTAMP:20260425T154353
CREATED:20240623T191049Z
LAST-MODIFIED:20240623T191049Z
UID:1852-1728158400-1728162000@francescajossa.com
SUMMARY:Organ concert - Chignolo d’Isola (IT)
DESCRIPTION:Concert programme\nJohann Sebastian Bach (1685-1750)\nConcerto in A-moll BWV 593\nAllegro\, Adagio\, Allegro \n  \nFelix Mendelssohn Bartholdy (1809-1847)\nOrgel Sonata 4\, op. 65 n. 4\nAllegro con brio\, Andante religioso\, Allegretto\, Allegro maestoso e vivace \n  \nVincenzo Petrali (1830-1889)\nVersetti per il Chirie\nSuonata d’Intavolatura \n  \nPaul Hindemith (1895-1963)\nSonate 2 für Orgel\n1. Lebhaft\n2. Ruhig bewegt\n3. Fuge. Mäßig bewegt\, Heiter \n  \nJacques van Oortmerssen (1950-2015)\n„Nun ruhen alle Wälder“\, uit ‘Five Choral Preludes’\nRondeau Reconstructie \n  \n  \nMore information: Parrocchia di Chignolo d’Isola
URL:https://francescajossa.com/event/organ-concert-chignolo-disola-it/
LOCATION:Chiesa di S. Pietro Apostolo\, Via IV Novembre\, Chignolo d’Isola\, Bergamo\, 24040\, Italy
END:VEVENT
BEGIN:VEVENT
DTSTART;TZID=UTC:20241012T200000
DTEND;TZID=UTC:20241012T213000
DTSTAMP:20260425T154353
CREATED:20240205T121804Z
LAST-MODIFIED:20240205T121804Z
UID:1472-1728763200-1728768600@francescajossa.com
SUMMARY:Organ concert - Amsterdam (NL)
DESCRIPTION:Concert programme\nContribution as organ player during the Ereprijs 45 years celebration concert. \n  \nMore information: Orgelpark
URL:https://francescajossa.com/event/organ-concert-amsterdam-nl-3/
LOCATION:Orgelpark Amsterdam\, Gerard Brandtstraat 28\, Amsterdam\, Netherlands
END:VEVENT
BEGIN:VEVENT
DTSTART;TZID=UTC:20241014T170000
DTEND;TZID=UTC:20241014T170000
DTSTAMP:20260425T154353
CREATED:20240205T122744Z
LAST-MODIFIED:20240205T122744Z
UID:1478-1728925200-1728925200@francescajossa.com
SUMMARY:Organ concert - Schwäbisch Gmünd (DE)
DESCRIPTION:Concert programme\nContribution as organ player during the “Garden of Delight” performance. \n  \nMore information: Schatten Theater
URL:https://francescajossa.com/event/organ-concert-schwabisch-gmund-de/
LOCATION:Zuid-Holland
END:VEVENT
BEGIN:VEVENT
DTSTART;TZID=UTC:20241015T170000
DTEND;TZID=UTC:20241015T170000
DTSTAMP:20260425T154353
CREATED:20240205T122845Z
LAST-MODIFIED:20240205T122845Z
UID:1480-1729011600-1729011600@francescajossa.com
SUMMARY:Organ concert - Schwäbisch Gmünd (DE)
DESCRIPTION:Concert programme\nContribution as organ player during the “Garden of Delight” performance. \n  \nMore information: Schatten Theater
URL:https://francescajossa.com/event/organ-concert-schwabisch-gmund-de-2/
LOCATION:Zuid-Holland
END:VEVENT
BEGIN:VEVENT
DTSTART;TZID=UTC:20241024T121500
DTEND;TZID=UTC:20241024T124500
DTSTAMP:20260425T154353
CREATED:20240125T162816Z
LAST-MODIFIED:20240614T110600Z
UID:1456-1729772100-1729773900@francescajossa.com
SUMMARY:Organ concert - Leuven (BE)
DESCRIPTION:Concert programme\nJohann Sebastian Bach (1685-1750)\nConcerto in A-moll BWV 593\nAllegro\, Adagio\, Allegro \n  \nAlexandre Pierre-François Boëly (1785-1858)\n“Bin Ich Gleich Von Dir Gewichen” \n  \nFelix Mendelssohn Bartholdy (1809-1847)\nOrgel Sonata 4\, op. 65 n. 4 \n  \n  \nMore information: Contius Foundation
URL:https://francescajossa.com/event/organ-concert-leuven-be-6/
LOCATION:Sint-Michielskerk\, Naamsestraat 57a\, Leuven\, Vlaams-Brabant\, 3000\, Belgium
END:VEVENT
BEGIN:VEVENT
DTSTART;TZID=UTC:20241031T201500
DTEND;TZID=UTC:20241103T220000
DTSTAMP:20260425T154353
CREATED:20241007T212538Z
LAST-MODIFIED:20241007T212538Z
UID:2466-1730405700-1730671200@francescajossa.com
SUMMARY:Pergolesi's Stabat Mater - Eindhoven\, Heerlen\, Tilburg en Maastricht (NL)
DESCRIPTION:Concert programme\nMusic of C.P.E. Bach and Pergolesi’s Stabat Mater. \nMusical contribution as organ player. \n  \nMore information: Phil Zuid
URL:https://francescajossa.com/event/pergolesis-stabat-mater-eindhoven-heerlen-tilburg-en-maastricht-nl/
LOCATION:Zuid-Holland
END:VEVENT
END:VCALENDAR