BEGIN:VCALENDAR
VERSION:2.0
PRODID:-//Francesca Ajossa - ECPv6.13.2.1//NONSGML v1.0//EN
CALSCALE:GREGORIAN
METHOD:PUBLISH
X-ORIGINAL-URL:https://francescajossa.com
X-WR-CALDESC:Events for Francesca Ajossa
REFRESH-INTERVAL;VALUE=DURATION:PT1H
X-Robots-Tag:noindex
X-PUBLISHED-TTL:PT1H
BEGIN:VTIMEZONE
TZID:UTC
BEGIN:STANDARD
TZOFFSETFROM:+0000
TZOFFSETTO:+0000
TZNAME:UTC
DTSTART:20250101T000000
END:STANDARD
END:VTIMEZONE
BEGIN:VEVENT
DTSTART;TZID=UTC:20250802T180000
DTEND;TZID=UTC:20250802T190000
DTSTAMP:20260425T014314
CREATED:20250720T185802Z
LAST-MODIFIED:20250720T185802Z
UID:2701-1754157600-1754161200@francescajossa.com
SUMMARY:Organ concert - Berlin (DE)
DESCRIPTION:Concert programme\nJohann Sebastian Bach (1685-1750)\nPrelude in C minor\, BWV 546\nChrist\, unser Herr\, zum Jordan kam\, BWV 684\nFugue in C minor\, BWV 546 \nCamille Saint Saëns (1835-1921)\nFantaisie no.2 en Ré bémol majeur Op.101 \nFranz Liszt (1811-1886)\n“Ad nos\, ad salutarem undam” S.259 \n  \nMore information: Kaiser-Wilhelm-Gedächtnis-Kirche
URL:https://francescajossa.com/event/organ-concert-berlin-de/
LOCATION:Gedachtniskirche\, Breitscheidplatz\, Berlin\, 10789\, Germany
END:VEVENT
BEGIN:VEVENT
DTSTART;TZID=UTC:20250805T201500
DTEND;TZID=UTC:20250805T211500
DTSTAMP:20260425T014314
CREATED:20250306T232217Z
LAST-MODIFIED:20250306T232234Z
UID:2589-1754424900-1754428500@francescajossa.com
SUMMARY:Organ concert - Nijmegen (NL)
DESCRIPTION:Concert programme\nJohann Sebastian Bach (1685-1750)\nPrelude in C minor\, BWV 546\nChrist\, unser Herr\, zum Jordan kam\, BWV 684\nFugue in C minor\, BWV 546 \nCamille Saint Saëns (1835-1921)\nFantaisie no.2 en Ré bémol majeur Op.101 \nFranz Liszt (1811-1886)\n“Ad nos\, ad salutarem undam” S.259 \n  \nMore information: Stichting Nijmeegse Orgelkring
URL:https://francescajossa.com/event/2589/
LOCATION:Stevenskerk\, Sint Stevenskerkhof 62\, Nijmegen\, Gelderland\, 6511VZ\, Netherlands
END:VEVENT
BEGIN:VEVENT
DTSTART;TZID=UTC:20250807T200000
DTEND;TZID=UTC:20250807T213000
DTSTAMP:20260425T014314
CREATED:20250511T120904Z
LAST-MODIFIED:20250511T121005Z
UID:2644-1754596800-1754602200@francescajossa.com
SUMMARY:Organ concert - Gorinchem (NL)
DESCRIPTION:Concert programme\nJohann Sebastian Bach (1685-1750)\nTriosonate IV in E-moll\, BWV528 \nMarcel Dupré (1886-1971)\nSymphonie-Passion op. 23 \n\nLe Monde dans l’attente du Sauveur\nNativité\nCrucifixion\nRésurrection\n\n*In addition to the above pieces\, Arjen Versluis\, organist of the Grote Kerk\, will play additional repertoire and improvisations. \nMore information: Gorinchem Orgelstad
URL:https://francescajossa.com/event/organ-concert-gorinchem-nl/
LOCATION:Grote Kerk Gorinchem\, Groenmarkt 7\, Gorinchem\, Zuid-Holland\, 4102GB\, Netherlands
END:VEVENT
BEGIN:VEVENT
DTSTART;TZID=UTC:20250808T120000
DTEND;TZID=UTC:20250808T140000
DTSTAMP:20260425T014314
CREATED:20250511T122219Z
LAST-MODIFIED:20250511T122424Z
UID:2650-1754654400-1754661600@francescajossa.com
SUMMARY:Organ concert - Alkmaar (NL)
DESCRIPTION:Concert programme\n-Van Covelens organ-\nAndries van Rossem (1957*)\nOneliner \n-Van Hagerbeer/Schnitger organ-\nJohann Ludwig Krebs (1713-1780)\nTrio in E-Flat Major\, Krebs-WV 443 \nJohann Sebastian Bach (1685-1750)\nPrelude in C minor\, BWV 546\nChrist\, unser Herr\, zum Jordan kam\, BWV 684\nFugue in C minor\, BWV 546 \n*This program will be performed twice\, once at 12:00 and once at 13:00. \nMore information: Grote Kerk Alkmaar
URL:https://francescajossa.com/event/organ-concert-alkmaar-nl/
LOCATION:Grote of Sint-Laurenskerk Alkmaar\, Koorstraat 2\, Alkmaar\, Noord-Holland\, 1811GP\, Netherlands
END:VEVENT
BEGIN:VEVENT
DTSTART;TZID=UTC:20250812T201500
DTEND;TZID=UTC:20250812T211500
DTSTAMP:20260425T014314
CREATED:20250306T233040Z
LAST-MODIFIED:20250511T121123Z
UID:2594-1755029700-1755033300@francescajossa.com
SUMMARY:Organ concert - Middelburg (NL)
DESCRIPTION:Concert programme\nJohann Sebastian Bach (1685-1750)\nPrelude in C minor\, BWV 546\nChrist\, unser Herr\, zum Jordan kam\, BWV 684\nFugue in C minor\, BWV 546 \nMargaretha Cristina de Jong (1961*)\nPrélude\, Chroal varié et Fugue sur\nVeni redemptor gentium \nMarcel Dupré (1886-1971)\nSymphonie-Passion op. 23 \n\nLe Monde dans l’attente du Sauveur\nNativité\nCrucifixion\nRésurrection\n\nMore information: Orgelstad Middelburg
URL:https://francescajossa.com/event/organ-concert-middelburg-nl/
LOCATION:Nieuwe Kerk Middelburg\, Onder Den Toren 1\, Middelburg\, Zeeland\, 4331BD\, Netherlands
END:VEVENT
BEGIN:VEVENT
DTSTART;TZID=UTC:20250814T200000
DTEND;TZID=UTC:20250814T210000
DTSTAMP:20260425T014314
CREATED:20250518T170458Z
LAST-MODIFIED:20250518T170518Z
UID:2665-1755201600-1755205200@francescajossa.com
SUMMARY:Organ concert - Barneveld (NL)
DESCRIPTION:Concert programme\nGeorg Muffat (1653-1704)\nToccata Septima (Apparatus musico-organisticus\, 1690) \nGottfried August Homilius (1714-1785)\nUit 32 Praeludia zu geistlichen Liedern für zwei Claviere und Pedal:\n– Schmücke dich\, o liebe Seele\, HoWV VIII.17\n– Herzlich lieb hab ich dich\, o Herre\, HoWV VIII.12 \nJohann Sebastian Bach (1685-1750)\nPartite diverse sopra: Sei gegrüßet\, Jesu gütig\, BWV 768 \nJohannes Brahms (1833-1897)\nUit 11 Choral-Vorspiele\, Op. 122:\nNo.4 Herzlich tut mich erfreuen\nNo.10. Herzlich tut mich verlangen \nFranz Schmidt (1874-1939)\nToccata in C \n  \n  \nMore information: Stichting Concerten Oude Kerk Barneveld
URL:https://francescajossa.com/event/organ-concert-barneveld-nl/
LOCATION:Oude Kerk Barneveld\, Torenplein 1\, Barneveld\, Gelderland\, 3772CX\, Netherlands
END:VEVENT
BEGIN:VEVENT
DTSTART;TZID=UTC:20250816T130000
DTEND;TZID=UTC:20250816T140000
DTSTAMP:20260425T014314
CREATED:20250802T193638Z
LAST-MODIFIED:20250802T193638Z
UID:2729-1755349200-1755352800@francescajossa.com
SUMMARY:Organ concert - Utrecht (NL)
DESCRIPTION:Concert programme\n– Sweelinckorgel – \nGeorg Muffat (1653-1704)\nToccata Septima (Apparatus musico-organisticus\, 1690) \n– Hoofdorgel – \nJohann Sebastian Bach (1685-1750)\nTriosonate IV\, BWV528 \nJohannes Brahms (1833-1897)\nUit 11 Choral-Vorspiele\, Op. 122:\nNo.4 Herzlich tut mich erfreuen\nNo.10. Herzlich tut mich verlangen \nMax Reger (1873-1916)\nBenedictus op.59 Nr. 9 \nFranz Schmidt (1874-1939)\nToccata in C \n  \n  \nMore information: Nicolaiconcerten Utrecht
URL:https://francescajossa.com/event/organ-concert-utrecht-nl/
LOCATION:Nicolaikerk\, Nicolaaskerkhof 8\, Utrecht\, Netherlands
END:VEVENT
BEGIN:VEVENT
DTSTART;TZID=UTC:20250818T200000
DTEND;TZID=UTC:20250818T210000
DTSTAMP:20260425T014314
CREATED:20250802T194155Z
LAST-MODIFIED:20250802T194236Z
UID:2732-1755547200-1755550800@francescajossa.com
SUMMARY:Organ concert - Ommen (NL)
DESCRIPTION:Concert programme\nGeorg Muffat (1653-1704)\nToccata Septima (Apparatus musico-organisticus\, 1690) \nFranz Danksagmüller (1969*)\nEstampie \nDieterich Buxthude (1637-1707)\nPassacaglia in D\, BuxWV 161\nTe Deum Laudamus\, BuxVW 218 \nAndries van Rossem (1957*)\nOneliner \nJohann Sebastian Bach (1685-1750)\nToccata and fugue in D minor BWV 538 \n  \n  \nMore information: Edskes orgel Ommen
URL:https://francescajossa.com/event/organ-concert-ommen-nl/
LOCATION:Het Baken\, Trompstraat 2\, Ommen\, 7731 CK\, Netherlands
END:VEVENT
BEGIN:VEVENT
DTSTART;TZID=UTC:20250821T201500
DTEND;TZID=UTC:20250821T213000
DTSTAMP:20260425T014314
CREATED:20250512T223135Z
LAST-MODIFIED:20250512T223135Z
UID:2660-1755807300-1755811800@francescajossa.com
SUMMARY:Organ concert - Harderwijk (NL)
DESCRIPTION:Concert programme\nGeorg Muffat (1653-1704)\nToccata Septima (Apparatus musico-organisticus\, 1690) \nDietrich Buxtehude (1637-1707)\nPassacaglia in D\, BuxWV 161 \nFranz Danksagmüller (1969*)\nEstampie \nRobert Schumann (1810-1856)\n6 Studien in kanonischer Form\, Op.56\n1. Nicht zu schnell\n2. Mit innigem Ausdruck\n3. Andantino\n4. Innig\n5. Nicht zu schnell\n6. Adagio \nAndries van Rossem (1957*)\nOneliner \nJohann Sebastian Bach (1685-1750)\nToccata und fugue in D-moll\, BWV 538 \n  \n  \nMore information: Orgelconcerten Grote Kerk Harderwijk
URL:https://francescajossa.com/event/organ-concert-harderwijk-nl/
LOCATION:Grote Kerk Harderwijk\, Kerkplein 1\, Harderwijk\, Gelderland\, 3841EC\, Netherlands
END:VEVENT
END:VCALENDAR